BEGIN:VCALENDAR
PRODID:NingEventWidget-v1
VERSION:2.0
METHOD:PUBLISH
BEGIN:VTIMEZONE
TZID:Europe/Paris
X-LIC-LOCATION:Europe/Paris
BEGIN:DAYLIGHT
TZOFFSETFROM:+0100
TZOFFSETTO:+0200
TZNAME:CEST
DTSTART:19700329T020000
RRULE:FREQ=YEARLY;BYMONTH=3;BYDAY=-1SU
END:DAYLIGHT
BEGIN:STANDARD
TZOFFSETFROM:+0200
TZOFFSETTO:+0100
TZNAME:CET
DTSTART:19701025T030000
RRULE:FREQ=YEARLY;BYMONTH=10;BYDAY=-1SU
END:STANDARD
END:VTIMEZONE
BEGIN:VEVENT
UID:2485226:Event:2649340
DTSTAMP:20260422T024554Z
SUMMARY:Deployer le feminin sacrÃ©
DESCRIPTION:â€“ Cueillettes et sensibilisation autour des plantes â€“ 
 PrÃ©sentation des Ã©nergies crÃ©atrices du FÃ©minin et de ses diffÃ©re
 nts cycles lunaires â€“ MÃ©ditation pour la connexion Ã  son utÃ©rus â
 €“ Ouverture du cercle par les vibrations du tambour chamanique â€“ Da
 nse des 4 Ã©lÃ©ments associÃ©e aux 4 directions de la Roue de la MÃ©de
 cine\n\nPour plus d'information, aller sur https://epanews.fr/events/d
 eployer-le-feminin-sacr
DTSTART;TZID=Europe/Paris:20160605T133000
DTEND;TZID=Europe/Paris:20160605T190000
CATEGORIES:92
LOCATION:Parc de Sceaux
WEBSITE:http://jababa999.wordpress.com
URL:http://jababa999.wordpress.com
CONTACT:0612065347
ORGANIZER;CN=lasur:https://epanews.fr/profile/lasur656
ATTACH;FMTTYPE="image/jpeg":
ATTENDEE;ROLE=REQ-PARTICIPANT;PARTSTAT=ACCEPTED;RSVP=TRUE;CN=lasur:htt
 ps://epanews.fr/profile/lasur656
END:VEVENT
END:VCALENDAR
