BEGIN:VCALENDAR
PRODID:NingEventWidget-v1
VERSION:2.0
METHOD:PUBLISH
BEGIN:VTIMEZONE
TZID:Europe/Paris
X-LIC-LOCATION:Europe/Paris
BEGIN:DAYLIGHT
TZOFFSETFROM:+0100
TZOFFSETTO:+0200
TZNAME:CEST
DTSTART:19700329T020000
RRULE:FREQ=YEARLY;BYMONTH=3;BYDAY=-1SU
END:DAYLIGHT
BEGIN:STANDARD
TZOFFSETFROM:+0200
TZOFFSETTO:+0100
TZNAME:CET
DTSTART:19701025T030000
RRULE:FREQ=YEARLY;BYMONTH=10;BYDAY=-1SU
END:STANDARD
END:VTIMEZONE
BEGIN:VEVENT
UID:2485226:Event:232900
DTSTAMP:20260423T181634Z
SUMMARY:Dédicace de mon livre au Salon du Livre de Paris 
DESCRIPTION:Je suis aujourd'hui au Salon du livre de Paris Porte de Ve
 rsailles\n– Pavillon 1 stand C24 de 15h à 18h \npour dédicacer m
 on livre 'LA METHODE REFLEXES DETENTE' \nVenez me voir !\n \nhttp://
 epanews.fr/forum/topics/comment-preserver-son-bien\nAnita\n\nPour plus
  d'information, aller sur https://epanews.fr/events/dedicace-de-mon-li
 vre-au-salon
DTSTART;TZID=Europe/Paris:20110319T000000
DTEND;TZID=Europe/Paris:20110319T235900
CATEGORIES:75015
LOCATION:PARIS
WEBSITE:
URL:
CONTACT:
ORGANIZER;CN="Reflexes Detente":https://epanews.fr/profile/ReflexesDet
 ente
ATTACH;FMTTYPE="image/jpeg":http://storage.ning.com/topology/rest/1.0/
 file/get/1662400896?profile=original
ATTENDEE;ROLE=REQ-PARTICIPANT;PARTSTAT=ACCEPTED;RSVP=TRUE;CN="Reflexes
  Detente":https://epanews.fr/profile/ReflexesDetente
END:VEVENT
END:VCALENDAR
