BEGIN:VCALENDAR
PRODID:NingEventWidget-v1
VERSION:2.0
METHOD:PUBLISH
BEGIN:VTIMEZONE
TZID:Europe/Paris
X-LIC-LOCATION:Europe/Paris
BEGIN:DAYLIGHT
TZOFFSETFROM:+0100
TZOFFSETTO:+0200
TZNAME:CEST
DTSTART:19700329T020000
RRULE:FREQ=YEARLY;BYMONTH=3;BYDAY=-1SU
END:DAYLIGHT
BEGIN:STANDARD
TZOFFSETFROM:+0200
TZOFFSETTO:+0100
TZNAME:CET
DTSTART:19701025T030000
RRULE:FREQ=YEARLY;BYMONTH=10;BYDAY=-1SU
END:STANDARD
END:VTIMEZONE
BEGIN:VEVENT
UID:2485226:Event:116754
DTSTAMP:20260424T224350Z
SUMMARY:DÃ©couvrir l'ennÃ©agramme : outil de dÃ©veloppement personnel 
 et d'accompagnement
DESCRIPTION:Stage rÃ©servÃ© aux praticiens en relation dâ€™aide et thÃ
 ©rapeutes.  14 et 15 janvier 2011et une journÃ©e de suivi le 4 mars. 9
  bis rue de Bergette, St Germain en Laye. AnimÃ© par Christine Damaye 
 et Pascale Charlier.  Lâ€™ennÃ©agramme est un merveilleux outil de dÃ©
 veloppement personnel. Il permet de mieux se comprendre et de mieux co
 mprendre lâ€™autre. Ce systÃ¨me dâ€™Ã©tude de la personnalitÃ© repose 
 sur le principe que tout homme a un trait de caractÃ¨re central, sembl
 able Ã  un axe autour duquel tourne sa personnalitÃ©. Lâ€™objectif de 
 ce stage est : - dÃ©couvrir et expÃ©rimenter l'ennÃ©agramme, - acquÃ©r
 ir et dÃ©velopper une pratique concrÃ¨te, utilisable dans lâ€™accompag
 nement de vos clients et patients.  Programme des 14 et 15 janiver : ï
 ƒ˜ DÃ©couvrir les 9 types de personnalitÃ© : la construction de lâ€™eg
 o dans lâ€™enfance, les systÃ¨mes de valeur, les filtres de perception
  et les mÃ©canismes de dÃ©fense. ïƒ˜ ApprÃ©hender les 3 centres, les a
 iles, les flÃ¨ches et les dynamiques dâ€™Ã©volution de chaque type. ïƒ
 ˜ Identifier et analyser votre propre type de personnalitÃ© au sein de
  l'ennÃ©agramme. ïƒ˜ ReconnaÃ®tre la personnalitÃ© des autres ; au tra
 vers des comportements observables (habitudes, mots-clÃ©, gestuelle, r
 ythmeâ€¦) Programme du vendredi 4 mars: ïƒ˜ Partager les expÃ©rimentat
 ions de chacun avec lâ€™ennÃ©agramme. ïƒ˜ Affiner votre recul dans lâ€
 ™observation Ã  travers lâ€™ennÃ©agramme. ïƒ˜ Approfondir les mÃ©canis
 mes de dÃ©fense des bases.  Moyens pÃ©dagogiques : ïƒ˜ Exercices inter
 actifs, mises en situation, cas pratiques ïƒ˜ PrÃ©sentation de tÃ©moig
 nages vÃ©cus sur vidÃ©o ïƒ˜ ExposÃ©s ïƒ˜ Questionnaire dâ€™auto-Ã©valu
 ation.  Prix du stage : 220 â‚¬ les 14 et 15 janvier et 110 â‚¬ le 4 m
 ars. (Convention de stage rÃ©alisable Ã  la demande).  RÃ©servation et
  renseignements :  Pascale Charlier est certifiÃ©e et formatrice en en
 nÃ©agramme (CEE de Paris). Elle fait de la formation en dÃ©veloppement
  personnel, communication, management et de lâ€™accompagnement personn
 alisÃ©. TÃ©l. : 06.07.85.45.94  Christine Damaye est certifiÃ©e et for
 matrice en ennÃ©agramme (CEE de Paris). Elle exerce en tant que psycho
 thÃ©rapeute et accompagne des cadres en entreprise dans lâ€™Ã©mergence
  de leur projet professionnel et leur Ã©volution de carriÃ¨re. TÃ©l. :
  06.62.59.44.27\n\nPour plus d'information, aller sur https://epanews.
 fr/events/decouvrir-lenneagramme-outil
DTSTART;TZID=Europe/Paris:20110114T000000
DTEND;TZID=Europe/Paris:20110115T235900
CATEGORIES:78
LOCATION:St Germain en Laye
WEBSITE:
URL:
CONTACT:06.07.85.45.94
ORGANIZER;CN=Pascale:https://epanews.fr/profile/Pascale936
ATTACH;FMTTYPE="image/jpeg":http://storage.ning.com/topology/rest/1.0/
 file/get/1662338436?profile=original
ATTENDEE;ROLE=REQ-PARTICIPANT;PARTSTAT=ACCEPTED;RSVP=TRUE;CN=Pascale:h
 ttps://epanews.fr/profile/Pascale936
END:VEVENT
END:VCALENDAR
