BEGIN:VCALENDAR
PRODID:NingEventWidget-v1
VERSION:2.0
METHOD:PUBLISH
BEGIN:VTIMEZONE
TZID:Europe/Paris
X-LIC-LOCATION:Europe/Paris
BEGIN:DAYLIGHT
TZOFFSETFROM:+0100
TZOFFSETTO:+0200
TZNAME:CEST
DTSTART:19700329T020000
RRULE:FREQ=YEARLY;BYMONTH=3;BYDAY=-1SU
END:DAYLIGHT
BEGIN:STANDARD
TZOFFSETFROM:+0200
TZOFFSETTO:+0100
TZNAME:CET
DTSTART:19701025T030000
RRULE:FREQ=YEARLY;BYMONTH=10;BYDAY=-1SU
END:STANDARD
END:VTIMEZONE
BEGIN:VEVENT
UID:2485226:Event:179011
DTSTAMP:20260425T201007Z
SUMMARY:Découvrez le Double et optimisez votre futur
DESCRIPTION:Animée par Daniel Lehmuller,\n \nOrganisée à l'initiat
 ive de Noëlle CASSAN \n \nD'après la Théorie du Dédoublement de l
 'espace\n& du temps de Jean-Pierre Garnier Malet\n \n \n« La nuit 
 porte conseil » ... Pourquoi ?\n\n \nVia les ouvertures temporelles
  qui ponctuent le temps, c'est pendant le\nsommeil que s'échangent, e
 ntre passé, présent et futur, des\ninformations vitales contrôlées
  par notre Double, qui nous permettent de\n...\n \n1. Intensifier nos
  intuitions, prémonitions, synchronicités, et les rendre plus fiable
 s.\n2. Tester par anticipation les situations ou projets, et trouver l
 e\nmeilleur des potentiels disponibles pour les traiter ou les réalis
 er ;\ndonc optimiser notre avenir, ainsi que l'action de toute métho
 de de\ndéveloppement personnel ou de bien-être.\n3. Nettoyer mémoir
 es et potentiels dysharmoniques, concernant aussi les autres.\n4. Rét
 ablir l'équilibre intérieur et découvrir notre chemin le plus essen
 tiel.\n \nAvec notre Double, plus jamais seul, ici, ailleurs, partout
 , toujours\n \nContact : Noëlle CASSAN 06 85 54 68 11 ou no.cassan@
 wanadoo.fr \n\nPour plus d'information, aller sur https://epanews.fr/
 events/decouvrez-le-double-et
DTSTART;TZID=Europe/Paris:20110105T193000
DTEND;TZID=Europe/Paris:20110105T210000
CATEGORIES:82
LOCATION:Montauban
WEBSITE:http://eft-liberationdesemotions.blog4ever.com/blog/lirarticle
 -91075-2058684.html
URL:http://eft-liberationdesemotions.blog4ever.com/blog/lirarticle-910
 75-2058684.html
CONTACT:06 85 54 68 11
ORGANIZER:Noëlle Cassan
ATTACH;FMTTYPE="image/jpeg":
ATTENDEE;ROLE=REQ-PARTICIPANT;PARTSTAT=ACCEPTED;RSVP=TRUE;CN="Maria An
 nell - EFT Pour Tous":https://epanews.fr/profile/MariaAnnellEFTPourTou
 s
END:VEVENT
END:VCALENDAR
