BEGIN:VCALENDAR
PRODID:NingEventWidget-v1
VERSION:2.0
METHOD:PUBLISH
BEGIN:VTIMEZONE
TZID:Europe/Paris
X-LIC-LOCATION:Europe/Paris
BEGIN:DAYLIGHT
TZOFFSETFROM:+0100
TZOFFSETTO:+0200
TZNAME:CEST
DTSTART:19700329T020000
RRULE:FREQ=YEARLY;BYMONTH=3;BYDAY=-1SU
END:DAYLIGHT
BEGIN:STANDARD
TZOFFSETFROM:+0200
TZOFFSETTO:+0100
TZNAME:CET
DTSTART:19701025T030000
RRULE:FREQ=YEARLY;BYMONTH=10;BYDAY=-1SU
END:STANDARD
END:VTIMEZONE
BEGIN:VEVENT
UID:2485226:Event:47549
DTSTAMP:20260420T155439Z
SUMMARY:Découverte massage CHRYSALIS /DEBUTANT
DESCRIPTION:Etre massé dans le respect de son corps, c’est accepter
  de s’ouvrir à la terre, de se laisser aller à son contact bienvei
 llant pour recevoir les énergies du ciel. Le masseur est un médiateu
 r attentionné qui se met au service de la personne et l’invite à l
 âcher prise.\n\nLes pressions, les élévations, les étirements, les
  effleurements, les percussions, les écoutes sont autant de petits mo
 uvements qui rendent perceptibles la direction que votre vie veut pren
 dre ainsi que les barrières qu’elle se crée.\n\nLa position allong
 é permet un massage du dos progressif du bassin jusqu’aux épaules 
 repositionnant chaque vertèbre l’une au dessus de l’autre dans sa
  courbure naturelle en détendant et tonifiant les 2 colonnes de muscl
 es qui les entourent. Ainsi les bras peuvent se dégager de leurs tens
 ions et le cou de se détendre pour permettre à la tête de se dégag
 er et au cerveau de lâcher prise.\n\nLe massage complet alterne posit
 ions assise et couchée pour masser chaque partie du corps selon la mo
 rphologie particulière à chacun. Ainsi chaque muscle, chaque articul
 ation, chaque os, chaque organe est sollicité, le corps est remodelé
  pour prendre plus d’espace dans la vie. Selon les besoins, une part
 ie du corps peut recevoir un massage plus profond, en particulier le d
 os souvent douloureux.\n\nLe magnétisme qui fait partie intégrante d
 e ce massage est cette énergie qui entoure les êtres vivants de notr
 e planète. Il peut être chaud ou froid, humide ou sec. Il agit sur t
 oute matière vivante comme un souffle bienveillant et réparateur, qu
 i agit à son gré. Il apporte bien-être et détente. L’huile, base
  de tous les baumes, enrichie d’huile essentielles, pénètre la pea
 u rapidement et répand dans l’organisme ses substances naturelles.\
 n\nLe massage CHRYSALIS est le fruit d’une collaboration entre 2 êt
 res, il se fait habiller ou légèrement dévêtu pour le massage à l
 ’huile.\n\nVoila un petit résumé de ce Massage et maintenant à vo
 us de voir\n\nPour plus d'information, aller sur https://epanews.fr/ev
 ents/decouverte-massage-chrysalis
DTSTART;TZID=Europe/Paris:20100516T000000
DTEND;TZID=Europe/Paris:20100516T235900
CATEGORIES:83
LOCATION:TOULON  OUEST QUARTIER PONT DE BOIS
WEBSITE:
URL:
CONTACT:06 61 91 28 00
ORGANIZER:P.MALLET
ATTACH;FMTTYPE="image/jpeg":http://storage.ning.com/topology/rest/1.0/
 file/get/1662293864?profile=original
ATTENDEE;ROLE=REQ-PARTICIPANT;PARTSTAT=ACCEPTED;RSVP=TRUE;CN=Sabine:ht
 tps://epanews.fr/profile/tipa
ATTENDEE;ROLE=REQ-PARTICIPANT;PARTSTAT=ACCEPTED;RSVP=TRUE;CN="bonnette
  jocelyne":https://epanews.fr/profile/bonnettejocelyne
ATTENDEE;ROLE=REQ-PARTICIPANT;PARTSTAT=ACCEPTED;RSVP=TRUE;CN="Patrick 
 MALLET":https://epanews.fr/profile/mallet
ATTENDEE;ROLE=REQ-PARTICIPANT;PARTSTAT=TENTATIVE;RSVP=TRUE;CN="marie l
 aure":https://epanews.fr/profile/marielaure495
ATTENDEE;ROLE=REQ-PARTICIPANT;PARTSTAT=TENTATIVE;RSVP=TRUE;CN=Mine:htt
 ps://epanews.fr/profile/Mine
ATTENDEE;ROLE=REQ-PARTICIPANT;PARTSTAT=TENTATIVE;RSVP=TRUE;CN="Mike Fr
 anceschi":https://epanews.fr/profile/MikeFranceschi
END:VEVENT
END:VCALENDAR
