BEGIN:VCALENDAR
PRODID:NingEventWidget-v1
VERSION:2.0
METHOD:PUBLISH
BEGIN:VTIMEZONE
TZID:Europe/Paris
X-LIC-LOCATION:Europe/Paris
BEGIN:DAYLIGHT
TZOFFSETFROM:+0100
TZOFFSETTO:+0200
TZNAME:CEST
DTSTART:19700329T020000
RRULE:FREQ=YEARLY;BYMONTH=3;BYDAY=-1SU
END:DAYLIGHT
BEGIN:STANDARD
TZOFFSETFROM:+0200
TZOFFSETTO:+0100
TZNAME:CET
DTSTART:19701025T030000
RRULE:FREQ=YEARLY;BYMONTH=10;BYDAY=-1SU
END:STANDARD
END:VTIMEZONE
BEGIN:VEVENT
UID:2485226:Event:147336
DTSTAMP:20260422T132025Z
SUMMARY:Découverte du coaching systémique
DESCRIPTION:\n\nQuand une situation professionnelle ou personnelle est
  apparemment sans issue, c'est que le \"système\" dans lequel nous é
 voluons qui est perturbé .\nLe COACHING SYSTÉMIQUE en faisant appel 
 à l'inconscient (collectif ou individuel) vise à rétablir l'ordre d
 ans le \"système\" et permet à la personne coachée d'assumer la cha
 rge des seules responsabilités qui lui incombent dans le présent de 
 son système.La fonction du coach est de l'accompagner dans la découv
 erte de nouvelles options et de s'ouvrir à des perspectives différen
 tes .\nvenez découvrir cette technique en participant à l'atelier qu
 e j'ai le plaisir de vous proposer .\n15 personnes maximum\nparticipat
 ion : 5€ atelier + une consommation\n\nJ'ai 30 ans d'expérience dan
 s l'animation de groupes en formation , développement personnel et je
  suis depuis décembre 2009 diplômée en coaching systémique(Europea
 n Association on systemic consultancy)\n\nPour plus d'information, all
 er sur https://epanews.fr/events/decouverte-du-coaching
DTSTART;TZID=Europe/Paris:20101215T200000
DTEND;TZID=Europe/Paris:20101215T220000
CATEGORIES:83
LOCATION:Salon de thé \"Come à la maison\"
WEBSITE:http://www.83ollioules.com/aux-soins-naturels
URL:http://www.83ollioules.com/aux-soins-naturels
CONTACT:0682515981
ORGANIZER;CN="Danielle Blanc":https://epanews.fr/profile/DanielleBlanc
ATTACH;FMTTYPE="image/jpeg":http://storage.ning.com/topology/rest/1.0/
 file/get/1662363588?profile=original
ATTENDEE;ROLE=REQ-PARTICIPANT;PARTSTAT=ACCEPTED;RSVP=TRUE;CN=ingrasssi
 a:https://epanews.fr/profile/ingrasssia
ATTENDEE;ROLE=REQ-PARTICIPANT;PARTSTAT=ACCEPTED;RSVP=TRUE;CN=martinon:
 https://epanews.fr/profile/martinon
ATTENDEE;ROLE=REQ-PARTICIPANT;PARTSTAT=ACCEPTED;RSVP=TRUE;CN="Danielle
  Blanc":https://epanews.fr/profile/DanielleBlanc
ATTENDEE;ROLE=REQ-PARTICIPANT;PARTSTAT=ACCEPTED;RSVP=TRUE;CN="Bezard s
 abryna":https://epanews.fr/profile/Bezardsabryna
ATTENDEE;ROLE=REQ-PARTICIPANT;PARTSTAT=ACCEPTED;RSVP=TRUE;CN="evelyne 
 desplantes":https://epanews.fr/profile/lecoeurdelame
END:VEVENT
END:VCALENDAR
