BEGIN:VCALENDAR
PRODID:NingEventWidget-v1
VERSION:2.0
METHOD:PUBLISH
BEGIN:VTIMEZONE
TZID:Europe/Paris
X-LIC-LOCATION:Europe/Paris
BEGIN:DAYLIGHT
TZOFFSETFROM:+0100
TZOFFSETTO:+0200
TZNAME:CEST
DTSTART:19700329T020000
RRULE:FREQ=YEARLY;BYMONTH=3;BYDAY=-1SU
END:DAYLIGHT
BEGIN:STANDARD
TZOFFSETFROM:+0200
TZOFFSETTO:+0100
TZNAME:CET
DTSTART:19701025T030000
RRULE:FREQ=YEARLY;BYMONTH=10;BYDAY=-1SU
END:STANDARD
END:VTIMEZONE
BEGIN:VEVENT
UID:2485226:Event:2544868
DTSTAMP:20260421T121231Z
SUMMARY:Débranche Tout ! Danse, Création, Vision (24 heures seul-e e
 n nature)
DESCRIPTION:DEBRANCHE TOUT !\nDanse - Création - Vision (24h seul-e e
 n nature)\nUn processus de cinq jours et cinq nuits dont une journée 
 et une nuit seul-e en nature pour débrancher des innombrables sollici
 tations journalières, se distancier des petits et grands tracas de la
  vie, s'éloigner de l’effervescence du quotidien et se rebrancher s
 ur sa guidance interne.\nA travers la danse, le dessin, l'écriture, l
 e corps, les sensations, les perceptions et la nature chacun sera enco
 uragé à se laisser conduire sur la route menant à sa vérité perso
 nnelle. Le seul temps qui existe étant le Présent, nous serons en mo
 uvement et en création à partir de \"l'ici et le maintenant\". \nLa
  semaine sera un itinéraire élaboré au jour le jour qui tendra à c
 réer des opportunités harmonieuses et justes pour encourager chacun 
 à se vivre comme un être libre, à être différent, à aller dans l
 'inconnu de manière \"prudentielle\" et à s'écarter de ses routines
  physiques, émotionnelles et mentales.\nLa journée et la nuit seul-e
  en nature est  une expérience (inédites pour beaucoup) qui invite 
 à se relier à son soi profond dans le silence et la solitude; une bu
 lle hors du temps au coeur de la nature, à distance des interactions 
 humaines et des contingences matérielles du quotidien; 24h avec soi e
 t le Grand Tout pour être là, juste là, simplement là, comme le so
 nt les fleurs, les arbres, les pierres ...\nCes cinq jours et cinq nui
 ts sont une occasion pour emprunter des nouveaux jeu de langage, adopt
 er des lignes de conduites inédites, chevaucher une manière de pense
 r originale pour choisir, connaitre et créer sa propre réalité. Une
  épopée dans un espace-temps pour \"chausser\" une nouvelle paire de
  lunette afin de lire,  de voir, de ressentir et de vivre son monde a
 utrement.\n \nOUTILS : \n\nLife Art Process (aller/retour entre mouv
 ement, dessin, écriture)\nDanse libre et intuitive\nTravail sensoriel
  en nature\nPleine conscience aux trois niveaux d'attention : physique
 , émotionnel et mental/imaginaire\nApproche et pédagogie orientée r
 essources\nAllers/retours entre travail seul-e, en petit et groupe pou
 r respecter son espace intime, alimenter sa recherche personnelle et s
 e sentir soutenu par des courants plus forts que les siens propres.\nM
 éditation et Hypnothérapie\nCercle de parole\n\n\n\nPour plus d'info
 rmation, aller sur https://epanews.fr/events/debranche-tout-danse-cr-a
 tion-vision-24h-seul-e-en-nature
DTSTART;TZID=Europe/Paris:20160415T180000
DTEND;TZID=Europe/Paris:20160420T190000
CATEGORIES:26
LOCATION:la chapelle en vercors
WEBSITE:http://www.terrededance.com
URL:http://www.terrededance.com
CONTACT:
ORGANIZER;CN=beatricemaine:https://epanews.fr/profile/beatricemaine
ATTACH;FMTTYPE="image/jpeg":http://storage.ning.com/topology/rest/1.0/
 file/get/1663506314?profile=original
ATTENDEE;ROLE=REQ-PARTICIPANT;PARTSTAT=ACCEPTED;RSVP=TRUE;CN=beatricem
 aine:https://epanews.fr/profile/beatricemaine
END:VEVENT
END:VCALENDAR
