BEGIN:VCALENDAR
PRODID:NingEventWidget-v1
VERSION:2.0
METHOD:PUBLISH
BEGIN:VTIMEZONE
TZID:Europe/Paris
X-LIC-LOCATION:Europe/Paris
BEGIN:DAYLIGHT
TZOFFSETFROM:+0100
TZOFFSETTO:+0200
TZNAME:CEST
DTSTART:19700329T020000
RRULE:FREQ=YEARLY;BYMONTH=3;BYDAY=-1SU
END:DAYLIGHT
BEGIN:STANDARD
TZOFFSETFROM:+0200
TZOFFSETTO:+0100
TZNAME:CET
DTSTART:19701025T030000
RRULE:FREQ=YEARLY;BYMONTH=10;BYDAY=-1SU
END:STANDARD
END:VTIMEZONE
BEGIN:VEVENT
UID:2485226:Event:2255750
DTSTAMP:20260423T203929Z
SUMMARY:De la crÃ©ativitÃ© dans sa vie... avec la biodanza
DESCRIPTION:Dimanche aprÃ¨s-midi de biodanza, Â le 15 mars 2015 Â  Â  
 Â  Â  Â  Â  Â  Â  Â  Â  Â  Â  Â  Â  Â  Â  Â  Â  Â  Â  co-animation VÃ©
 ronique Faure et Martine BÃ©roule\nMettre en mouvement notre expressio
 n crÃ©ative, Â  Â  Â  Â  Â  Â  Â RÃ©veiller, nourrir et libÃ©rer nos Ã
 ©lans de crÃ©ativitÃ© Â  Â  Â  Â  Â  Â  Â  Â Oser les rÃ©aliser dans l
 a joie et le plaisir Â  Â  Â  Â  Â  Â  Â  Â  Â  Â  Â  Â  Â  Â  Â  Â  Â
   Â  Â  Â au sein d'un groupe bienveillant et respectueux\nDeux vivenc
 ias avec une grande pause grignotage Â  Â  Â  Â  Â  Â  Â  Â \nVenez te
 l que vous Ãªtes , nul besoin de savoir danser Â  Â  Â  Â  Â Tarif: 40
 â‚¬ Â (matÃ©riel compris) Â  Â  Â  Â  Â  Â  Â  Â  Â  Â  Â  Â  Â  Â  Â 
  Â  Â  Â  Â  Â  Â  Â  Â  Â  Â  Â  Â  Â A 35 mn de Paris par RER D- Sta
 tion Evry-Courcouronnes Â  Â  Â  Â  Â  Â  Â  Â A votre demande transpo
 rt assurÃ© depuis la gare RER\ncourriel: aufildesoi77@hotmail.fr\n\n\n
 Pour plus d'information, aller sur https://epanews.fr/events/de-la-cr-
 ativit-dans-sa-vie-avec-la-biodanza-1
DTSTART;TZID=Europe/Paris:20150315T133000
DTEND;TZID=Europe/Paris:20150315T190000
CATEGORIES:essonne
LOCATION:Courcouronnes, ferme des mathurines
WEBSITE:
URL:
CONTACT:0672695799
ORGANIZER;CN=aujourdhui64:https://epanews.fr/profile/aujourdhui64
ATTACH;FMTTYPE="image/jpeg":
ATTENDEE;ROLE=REQ-PARTICIPANT;PARTSTAT=ACCEPTED;RSVP=TRUE;CN=aujourdhu
 i64:https://epanews.fr/profile/aujourdhui64
END:VEVENT
END:VCALENDAR
