BEGIN:VCALENDAR
PRODID:NingEventWidget-v1
VERSION:2.0
METHOD:PUBLISH
BEGIN:VTIMEZONE
TZID:Europe/Paris
X-LIC-LOCATION:Europe/Paris
BEGIN:DAYLIGHT
TZOFFSETFROM:+0100
TZOFFSETTO:+0200
TZNAME:CEST
DTSTART:19700329T020000
RRULE:FREQ=YEARLY;BYMONTH=3;BYDAY=-1SU
END:DAYLIGHT
BEGIN:STANDARD
TZOFFSETFROM:+0200
TZOFFSETTO:+0100
TZNAME:CET
DTSTART:19701025T030000
RRULE:FREQ=YEARLY;BYMONTH=10;BYDAY=-1SU
END:STANDARD
END:VTIMEZONE
BEGIN:VEVENT
UID:2485226:Event:740405
DTSTAMP:20260424T023929Z
SUMMARY:\"De l'enfant blessé à l'enfant de lumière : le coeur\" Tan
 tra de la Réconciliation
DESCRIPTION:7 jours magiques pour libérer le cœur, autoriser la joie
  et la spontanéité, l'innocence et le ressenti. Venez rendre l’adu
 lte à sa complétude en retrouvant la paix, la magie, la confiance. P
 our pacifier, transformer et illuminer l'histoire d'enfance, prendre s
 oin de l'aspect le plus vulnérable. Pour renaître au Oui.  Lettr
 e d'engagement d'éthique. Individus et couple. Lire la suite...\n\n
 Pour plus d'information, aller sur https://epanews.fr/events/de-l-enfa
 nt-bless-l-enfant-de-lumi-re-le-coeur-tantra-de-la-r
DTSTART;TZID=Europe/Paris:20120419T180000
DTEND;TZID=Europe/Paris:20120426T190000
CATEGORIES:56
LOCATION:Plouhinec - Nestadio
WEBSITE:http://tantradianebellego.com/projet/356
URL:http://tantradianebellego.com/projet/356
CONTACT:01 42 38 20 30 / 06 76 74 35 10
ORGANIZER;CN="Tantra de la Réconciliation":https://epanews.fr/profile
 /TantradelaReconciliation
ATTACH;FMTTYPE="image/jpeg":http://storage.ning.com/topology/rest/1.0/
 file/get/1662575031?profile=original
ATTENDEE;ROLE=REQ-PARTICIPANT;PARTSTAT=ACCEPTED;RSVP=TRUE;CN="Tantra d
 e la Réconciliation":https://epanews.fr/profile/TantradelaReconciliat
 ion
END:VEVENT
END:VCALENDAR
