BEGIN:VCALENDAR
PRODID:NingEventWidget-v1
VERSION:2.0
METHOD:PUBLISH
BEGIN:VTIMEZONE
TZID:Europe/Paris
X-LIC-LOCATION:Europe/Paris
BEGIN:DAYLIGHT
TZOFFSETFROM:+0100
TZOFFSETTO:+0200
TZNAME:CEST
DTSTART:19700329T020000
RRULE:FREQ=YEARLY;BYMONTH=3;BYDAY=-1SU
END:DAYLIGHT
BEGIN:STANDARD
TZOFFSETFROM:+0200
TZOFFSETTO:+0100
TZNAME:CET
DTSTART:19701025T030000
RRULE:FREQ=YEARLY;BYMONTH=10;BYDAY=-1SU
END:STANDARD
END:VTIMEZONE
BEGIN:VEVENT
UID:2485226:Event:1600192
DTSTAMP:20260424T074019Z
SUMMARY:Modification demandÃ©e
DESCRIPTION:Â Â  23 Novembre 19h45\nDANSONS LA VIE\nDansons la Paix\na
 vec les danses sacrÃ©es qui relient\nÃ  la conscience de la Terre\nÂ \
 nDanses amÃ©rindiennes, Mongols, danses de nos villagesâ€¦\ndâ€™hier e
 t dâ€™aujourdâ€™hui avec des pas simples qui nous relient.\nÂ \nLES RO
 BES LONGUES DES FEMMES,\nLES PANTALONS DES HOMMESÂ \nNOUS RELIENT A LA
  TERRE\nÂ \nMitakuyÃ© oyasin\nAlain animera ces danses avec Elisabeth.
 \nParticipationÂ  conscienteÂ :\n-Â Â Â Â Â Â Â Â Â Â Â Â  7â‚¬Â  mini
 mum pour la location de la Salle et lâ€™Animation\nÂ \nInscriptionÂ  Â
  : Alain 04 50 23 78 34 Elisabeth 06 76 09 64 18\nalain.cornely@neuf.f
 rÂ Â Â Â Â Â Â Â  elisabeth.vasselin@sfr.frÂ Â Â Â Â Â Â  http://ecole
 -du-vivant.com\nLieuÂ : 1151 avenue dâ€™Aix-les bains 74600 Seynod\n(s
 ortie autoroute Seynod )\nÂ \nAprÃ¨s la sortie SeynodÂ  sud 15.1 direc
 tion ChambÃ©ry , 1Ã¨re maison\nÃ Â  gaucheÂ  enÂ Â  bas des virages\nÂ
  \n\nPour plus d'information, aller sur https://epanews.fr/events/dans
 ons-la-vie-1
DTSTART;TZID=Europe/Paris:20131123T194500
DTEND;TZID=Europe/Paris:20131123T230000
CATEGORIES:74
LOCATION:Seynod Annecy
WEBSITE:
URL:
CONTACT:06.76.09.64.18
ORGANIZER:Ecole du Vivant
ATTACH;FMTTYPE="image/jpeg":http://storage.ning.com/topology/rest/1.0/
 file/get/1662958643?profile=original
ATTENDEE;ROLE=REQ-PARTICIPANT;PARTSTAT=ACCEPTED;RSVP=TRUE;CN=Elisabeth
 :https://epanews.fr/profile/07kx4wat43cv5
END:VEVENT
END:VCALENDAR
