BEGIN:VCALENDAR
PRODID:NingEventWidget-v1
VERSION:2.0
METHOD:PUBLISH
BEGIN:VTIMEZONE
TZID:Europe/Paris
X-LIC-LOCATION:Europe/Paris
BEGIN:DAYLIGHT
TZOFFSETFROM:+0100
TZOFFSETTO:+0200
TZNAME:CEST
DTSTART:19700329T020000
RRULE:FREQ=YEARLY;BYMONTH=3;BYDAY=-1SU
END:DAYLIGHT
BEGIN:STANDARD
TZOFFSETFROM:+0200
TZOFFSETTO:+0100
TZNAME:CET
DTSTART:19701025T030000
RRULE:FREQ=YEARLY;BYMONTH=10;BYDAY=-1SU
END:STANDARD
END:VTIMEZONE
BEGIN:VEVENT
UID:2485226:Event:966451
DTSTAMP:20260421T015813Z
SUMMARY:danses sacrées du monde et tambour
DESCRIPTION:célébration de la nature automnale au son du tambour\nd
 anses sacrées accompagnées de magnifiques musiques du monde dans un 
 lieu enchanteur de la drôme\n\nPour plus d'information, aller sur htt
 ps://epanews.fr/events/danses-sacr-es-du-monde-et-tambour
DTSTART;TZID=Europe/Paris:20121021T093000
DTEND;TZID=Europe/Paris:20121021T183000
CATEGORIES:26
LOCATION:Crest dans la Drôme
WEBSITE:
URL:
CONTACT:
ORGANIZER;CN=Lasya:https://epanews.fr/profile/LaureMartin
ATTACH;FMTTYPE="image/jpeg":
ATTENDEE;ROLE=REQ-PARTICIPANT;PARTSTAT=ACCEPTED;RSVP=TRUE;CN=Lasya:htt
 ps://epanews.fr/profile/LaureMartin
END:VEVENT
END:VCALENDAR
