BEGIN:VCALENDAR
PRODID:NingEventWidget-v1
VERSION:2.0
METHOD:PUBLISH
BEGIN:VTIMEZONE
TZID:Europe/Paris
X-LIC-LOCATION:Europe/Paris
BEGIN:DAYLIGHT
TZOFFSETFROM:+0100
TZOFFSETTO:+0200
TZNAME:CEST
DTSTART:19700329T020000
RRULE:FREQ=YEARLY;BYMONTH=3;BYDAY=-1SU
END:DAYLIGHT
BEGIN:STANDARD
TZOFFSETFROM:+0200
TZOFFSETTO:+0100
TZNAME:CET
DTSTART:19701025T030000
RRULE:FREQ=YEARLY;BYMONTH=10;BYDAY=-1SU
END:STANDARD
END:VTIMEZONE
BEGIN:VEVENT
UID:2485226:Event:2250304
DTSTAMP:20260424T003921Z
SUMMARY:danses du Coeur
DESCRIPTION:Venez fêter le printemps dans un bain d'amour...> > Vous 
 serez comme des déesses et des dieux,\névoluant sur des musiques cha
 virantes,> dans un dialogue des corps inspiré, émotionnel,> mythique
  pour tout dire.\n> Pas besoin de savoir danser :> juste vous mouvoir 
 à votre rythme sur des musiques variées,> choisies essentiellement p
 our leurs qualités émotionnelles. > Vous rencontrerez toutes les per
 sonnes présentes,> et pourrez vivre différentes situations relationn
 elles :> à deux, à trois, à plusieurs.\nEntrée: 15 euros  Lieu: B
 ld de Ménilmontant paris11e \nRenseignements:\n michelle.itic@gmail.
 com> tel 06 37 00 47 28\n\n\nPour plus d'information, aller sur https:
 //epanews.fr/events/danses-du-coeur
DTSTART;TZID=Europe/Paris:20150314T200000
DTEND;TZID=Europe/Paris:20150314T230000
CATEGORIES:75
LOCATION:paris
WEBSITE:http://aquacoeur.fr
URL:http://aquacoeur.fr
CONTACT:0637004728
ORGANIZER;CN=Michelle:https://epanews.fr/profile/MichelleItic
ATTACH;FMTTYPE="image/jpeg":http://storage.ning.com/topology/rest/1.0/
 file/get/1663342891?profile=original
ATTENDEE;ROLE=REQ-PARTICIPANT;PARTSTAT=ACCEPTED;RSVP=TRUE;CN=Michelle:
 https://epanews.fr/profile/MichelleItic
END:VEVENT
END:VCALENDAR
