BEGIN:VCALENDAR
PRODID:NingEventWidget-v1
VERSION:2.0
METHOD:PUBLISH
BEGIN:VTIMEZONE
TZID:Europe/Paris
X-LIC-LOCATION:Europe/Paris
BEGIN:DAYLIGHT
TZOFFSETFROM:+0100
TZOFFSETTO:+0200
TZNAME:CEST
DTSTART:19700329T020000
RRULE:FREQ=YEARLY;BYMONTH=3;BYDAY=-1SU
END:DAYLIGHT
BEGIN:STANDARD
TZOFFSETFROM:+0200
TZOFFSETTO:+0100
TZNAME:CET
DTSTART:19701025T030000
RRULE:FREQ=YEARLY;BYMONTH=10;BYDAY=-1SU
END:STANDARD
END:VTIMEZONE
BEGIN:VEVENT
UID:2485226:Event:509685
DTSTAMP:20260421T202928Z
SUMMARY:Danse-Énergie le 23 sept. à Cassis
DESCRIPTION:nous avons le plaisir de vous informer que le prochain ate
 lier de Danse-Énergie aura lieu le  \n                   
                    VENDREDI 23 septembre\n      de 18h45
  à 21h \n  TRAVERSE DU CHATEAU\n Villa Montvert à Cassis.\n\nMê
 mes tarifs : 10 euros par personne ou 15€ pour les couples (constitu
 és ou circonstanciels)  (8€ et 12€ pour les adhérents de l'Ass
 ociation)    \n\nTel : 06 61 17 00 72 pour toute information.\nhttp
 ://associationlesnouveauxmondes.com/index.htm\nhttp://associationlesno
 uveauxmondes.com/intervenants.htm\nBien à vous \nMartine & Max \n
 \n\n\n\nPour plus d'information, aller sur https://epanews.fr/events/d
 anse-nergie-le-23-sept-cassis
DTSTART;TZID=Europe/Paris:20110923T184500
DTEND;TZID=Europe/Paris:20110923T210000
CATEGORIES:13
LOCATION:Marseille
WEBSITE:http://associationlesnouveauxmondes.com/index.htm
URL:http://associationlesnouveauxmondes.com/index.htm
CONTACT:06 61 17 00 72
ORGANIZER;CN=Max13:https://epanews.fr/profile/Mauro
ATTACH;FMTTYPE="image/jpeg":
ATTENDEE;ROLE=REQ-PARTICIPANT;PARTSTAT=ACCEPTED;RSVP=TRUE;CN=Max13:htt
 ps://epanews.fr/profile/Mauro
END:VEVENT
END:VCALENDAR
