BEGIN:VCALENDAR
PRODID:NingEventWidget-v1
VERSION:2.0
METHOD:PUBLISH
BEGIN:VTIMEZONE
TZID:Europe/Paris
X-LIC-LOCATION:Europe/Paris
BEGIN:DAYLIGHT
TZOFFSETFROM:+0100
TZOFFSETTO:+0200
TZNAME:CEST
DTSTART:19700329T020000
RRULE:FREQ=YEARLY;BYMONTH=3;BYDAY=-1SU
END:DAYLIGHT
BEGIN:STANDARD
TZOFFSETFROM:+0200
TZOFFSETTO:+0100
TZNAME:CET
DTSTART:19701025T030000
RRULE:FREQ=YEARLY;BYMONTH=10;BYDAY=-1SU
END:STANDARD
END:VTIMEZONE
BEGIN:VEVENT
UID:2485226:Event:2929789
DTSTAMP:20260421T143939Z
SUMMARY:danse medecine \"venez danser votre aller vers...de soi à l'a
 utre\"
DESCRIPTION:Entrez dans un espace de créativité, de ressourcement, d
 e découverte et d'approfondissement de soi. Ici pas de connaissance p
 réalable, pas d'attente particulière autre que celle de laisser éme
 rger le mouvement authentique, libre et spontané du corps. A l'écout
 e de vos sensations et de vos émotions vous pourrez éclairer d'un no
 uveau sens une partie de votre être au monde.\nLa danse médecine est
  une expérience corporelle, émotionnelle et psychique dans le sens o
 u elle permet de re-donner un nouveau sens a l’expérience vécue au
  travers du thème abordé.\nPour davantage d'information rendez vous 
 sur : https://psy-gestalt-rennes.fr/danse-therapie/\n\nPour plus d'inf
 ormation, aller sur https://epanews.fr/events/danse-medecine-venez-dan
 ser-votre-aller-vers-de-soi-l-autre
DTSTART;TZID=Europe/Paris:20180220T191500
DTEND;TZID=Europe/Paris:20180220T220000
CATEGORIES:56
LOCATION:7 rue jean Kerviche 56860 Séné
WEBSITE:https://www.google.fr/maps/place/7+Rue+Jean+Kerviche,+56860+S%
 C3%A9n%C3%A9/@47.6059432,-2.7392569,17z/data=!3m1!4b1!4m5!3m4!1s0x4810
 1d03a810548b:0x12282d86a1d14d3e!8m2!3d47.6059432!4d-2.7370682?hl=fr
URL:https://www.google.fr/maps/place/7+Rue+Jean+Kerviche,+56860+S%C3%A
 9n%C3%A9/@47.6059432,-2.7392569,17z/data=!3m1!4b1!4m5!3m4!1s0x48101d03
 a810548b:0x12282d86a1d14d3e!8m2!3d47.6059432!4d-2.7370682?hl=fr
CONTACT:0760680318
ORGANIZER;CN=XavFav:https://epanews.fr/profile/XavFav
ATTACH;FMTTYPE="image/jpeg":http://storage.ning.com/topology/rest/1.0/
 file/get/1663718712?profile=original
ATTENDEE;ROLE=REQ-PARTICIPANT;PARTSTAT=ACCEPTED;RSVP=TRUE;CN=XavFav:ht
 tps://epanews.fr/profile/XavFav
END:VEVENT
END:VCALENDAR
