BEGIN:VCALENDAR
PRODID:NingEventWidget-v1
VERSION:2.0
METHOD:PUBLISH
BEGIN:VTIMEZONE
TZID:Europe/Paris
X-LIC-LOCATION:Europe/Paris
BEGIN:DAYLIGHT
TZOFFSETFROM:+0100
TZOFFSETTO:+0200
TZNAME:CEST
DTSTART:19700329T020000
RRULE:FREQ=YEARLY;BYMONTH=3;BYDAY=-1SU
END:DAYLIGHT
BEGIN:STANDARD
TZOFFSETFROM:+0200
TZOFFSETTO:+0100
TZNAME:CET
DTSTART:19701025T030000
RRULE:FREQ=YEARLY;BYMONTH=10;BYDAY=-1SU
END:STANDARD
END:VTIMEZONE
BEGIN:VEVENT
UID:2485226:Event:2915478
DTSTAMP:20260421T223537Z
SUMMARY:Danse MÃ©ditative
DESCRIPTION:La VAGUE EN DANSEÂ est uneÂ mÃ©ditation intuitive du corps
 Â destinÃ©e Ã Â libÃ©rer le passÃ© pour mieux renaitre.Â \n L'universÂ
  Ã©nergÃ©tiqueÂ crÃ©Ã© -Â musique et chamanisme,Â offre l'opportunitÃ©
  deÂ rentrer dans leÂ cycle de transformation propice Ã  laÂ guÃ©rison
  de ses blessures et au retour Ã  un Ã©tat de bien-Ãªtre.  Par une pra
 tique rÃ©guliÃ¨re, les danseurs apprennent Ã Â se dÃ©tacher du mental 
 etÂ sont invitÃ©s Ã  laisserÂ leur corps exprimer librementÂ leurs Ã©m
 otionsÂ sans peurs du jugement.\nL'atelier ne nÃ©cessite aucune expÃ©r
 ience de danse et s'adresse Ã  toute personne aimant le rythme et le m
 ouvement.Â \n\nSur rÃ©servationÂ \n\nToutes les informations sont cons
 ultables sur mon siteÂ www.lavaguedevie.net Vous pouvez aussi me joind
 re par mail ou au tÃ©lÃ©phone shamandra@lavaguedevie.net Tel:Â 06 83 2
 5 24 54Â  Shamandra, chamaneÂ \n\n\nPour plus d'information, aller sur
  https://epanews.fr/events/danse-m-ditative-19
DTSTART;TZID=Europe/Paris:20180210T160000
DTEND;TZID=Europe/Paris:20180210T190000
CATEGORIES:75004
LOCATION:Micadanses
WEBSITE:http://www.lavaguedevie.net/la-vague-en-danse.html
URL:http://www.lavaguedevie.net/la-vague-en-danse.html
CONTACT:0683252454
ORGANIZER;CN=shamandra:https://epanews.fr/profile/shamandra
ATTACH;FMTTYPE="image/jpeg":http://storage.ning.com/topology/rest/1.0/
 file/get/1663671730?profile=original
ATTENDEE;ROLE=REQ-PARTICIPANT;PARTSTAT=ACCEPTED;RSVP=TRUE;CN=shamandra
 :https://epanews.fr/profile/shamandra
END:VEVENT
END:VCALENDAR
