BEGIN:VCALENDAR
PRODID:NingEventWidget-v1
VERSION:2.0
METHOD:PUBLISH
BEGIN:VTIMEZONE
TZID:Europe/Paris
X-LIC-LOCATION:Europe/Paris
BEGIN:DAYLIGHT
TZOFFSETFROM:+0100
TZOFFSETTO:+0200
TZNAME:CEST
DTSTART:19700329T020000
RRULE:FREQ=YEARLY;BYMONTH=3;BYDAY=-1SU
END:DAYLIGHT
BEGIN:STANDARD
TZOFFSETFROM:+0200
TZOFFSETTO:+0100
TZNAME:CET
DTSTART:19701025T030000
RRULE:FREQ=YEARLY;BYMONTH=10;BYDAY=-1SU
END:STANDARD
END:VTIMEZONE
BEGIN:VEVENT
UID:2485226:Event:2872162
DTSTAMP:20260421T234722Z
SUMMARY:Danse MÃ©decine thÃ¨me \"Offrir et Recevoir\"
DESCRIPTION:La danse mÃ©decine est une danse libre et intuitive. Nul b
 esoin de \"savoir danser\", il s'agit de laisser aller ce qui est prÃ©
 sent dans le mouvement. L'intelligence du corps en mouvement pour retr
 ouver le chemins de ses sensations, de ses Ã©motions, du sens mÃªme de
  ce qui au plus profond de chacun d'entre nous est en gestation et/ou 
 en croissance. Depuis toujours, sous toutes les latitudes, la danse da
 ns son mouvement spontanÃ© et authentique est Ã  la fois un divertisse
 ment mais aussi un facteur structurant de lâ€™Ãªtre. Elle nous relie Ã
   l'ensemble de qui nous sommes \"tÃªte-coeur-corps\". C'est Ã©galemen
 t une pratique symbolique, reliant au sacrÃ©, prÃ©sent en chacun d'ent
 re nous et entre nous. L'atelier proposÃ© s'articulera entre danse sac
 rÃ© et mÃ©ditative et temps d'Ã©change dans le verbe pour poser, assim
 iler et engager les intentions qui se prÃ©senterons.  Alors venez  RÃ©
 veiller votre Ã©nergie, votre sensualitÃ©,vos Ã©motions et vous dÃ©plo
 yer !  Oser aller Ã  la rencontre de soi et de lâ€™autre  Trouver vos 
 chemins dâ€™affirmation et vous libÃ©rer !\nTarif 20â‚¬\n\nPour plus d
 'information, aller sur https://epanews.fr/events/danse-m-decine
DTSTART;TZID=Europe/Paris:20170923T100000
DTEND;TZID=Europe/Paris:20170923T123000
CATEGORIES:35, 56
LOCATION:Talensac
WEBSITE:https://www.google.fr/maps/place/La+Champagne,+35160+Talensac/
 @48.0730875,-1.8992988,15z/data=!3m1!4b1!4m5!3m4!1s0x480efd67bb9e8f35:
 0xcb4745eb7344653!8m2!3d48.073074!4d-1.890544?hl=fr
URL:https://www.google.fr/maps/place/La+Champagne,+35160+Talensac/@48.
 0730875,-1.8992988,15z/data=!3m1!4b1!4m5!3m4!1s0x480efd67bb9e8f35:0xcb
 4745eb7344653!8m2!3d48.073074!4d-1.890544?hl=fr
CONTACT:07 60 68 03 18
ORGANIZER;CN=XavFav:https://epanews.fr/profile/XavFav
ATTACH;FMTTYPE="image/jpeg":http://storage.ning.com/topology/rest/1.0/
 file/get/1663691733?profile=original
ATTENDEE;ROLE=REQ-PARTICIPANT;PARTSTAT=ACCEPTED;RSVP=TRUE;CN=XavFav:ht
 tps://epanews.fr/profile/XavFav
END:VEVENT
END:VCALENDAR
