BEGIN:VCALENDAR
PRODID:NingEventWidget-v1
VERSION:2.0
METHOD:PUBLISH
BEGIN:VTIMEZONE
TZID:Europe/Paris
X-LIC-LOCATION:Europe/Paris
BEGIN:DAYLIGHT
TZOFFSETFROM:+0100
TZOFFSETTO:+0200
TZNAME:CEST
DTSTART:19700329T020000
RRULE:FREQ=YEARLY;BYMONTH=3;BYDAY=-1SU
END:DAYLIGHT
BEGIN:STANDARD
TZOFFSETFROM:+0200
TZOFFSETTO:+0100
TZNAME:CET
DTSTART:19701025T030000
RRULE:FREQ=YEARLY;BYMONTH=10;BYDAY=-1SU
END:STANDARD
END:VTIMEZONE
BEGIN:VEVENT
UID:2485226:Event:2930166
DTSTAMP:20260425T052713Z
SUMMARY:Danse libre
DESCRIPTION:L'objet de cette pratique est si simple qu'elle reprÃ©sent
 e parfois un vrai challenge ! Accueillir tout mouvement qui se prÃ©sen
 te sans aucune notion d'esthÃ©tisme. Laisser jaillir son propre mouvem
 ent intÃ©rieur en conscience pour retrouver sa libertÃ© de souffle, de
  mouvement et d'esprit. Lorsque vous retrouvez cette libertÃ© intÃ©rie
 ure, cette une immense joie qui surgit, au delÃ  des Ã©motions et schÃ
 ©mas de pensÃ©es habituels. Bouger en conscience vous permet Ã©galemen
 t de dÃ©velopper votre conscience tÃ©moin, ancrÃ©s dans la prÃ©sence a
 u corps, un Ã©tat d'Ãªtre et une pratique que vous pouvez remporter da
 ns votre quotidien.\nAttention: pour venir, tÃ©lÃ©charger le plan join
 t Ã  cette annonce\nPlus d'infos par ici:Â http://www.mouvheart.fr/dan
 se-libre-et-meditative-presentation/Inscription impÃ©rative par mail o
 u tÃ©l via le site:Â http://www.mouvheart.fr/contact/\n\nPour plus d'i
 nformation, aller sur https://epanews.fr/events/danse-libre
DTSTART;TZID=Europe/Paris:20180211T180000
DTEND;TZID=Europe/Paris:20180211T190000
CATEGORIES:44
LOCATION:Salle Pommier au Bois Raguenet
WEBSITE:http://www.mouvheart.fr/wp-content/uploads/2017/07/Plans-pour-
 venir-Salle-Pommier-Orvault.pdf
URL:http://www.mouvheart.fr/wp-content/uploads/2017/07/Plans-pour-veni
 r-Salle-Pommier-Orvault.pdf
CONTACT:
ORGANIZER;CN="Elodie Cachet":https://epanews.fr/profile/Elodie557
ATTACH;FMTTYPE="image/jpeg":http://storage.ning.com/topology/rest/1.0/
 file/get/1663719894?profile=original
ATTENDEE;ROLE=REQ-PARTICIPANT;PARTSTAT=ACCEPTED;RSVP=TRUE;CN="Elodie C
 achet":https://epanews.fr/profile/Elodie557
END:VEVENT
END:VCALENDAR
