BEGIN:VCALENDAR
PRODID:NingEventWidget-v1
VERSION:2.0
METHOD:PUBLISH
BEGIN:VTIMEZONE
TZID:Europe/Paris
X-LIC-LOCATION:Europe/Paris
BEGIN:DAYLIGHT
TZOFFSETFROM:+0100
TZOFFSETTO:+0200
TZNAME:CEST
DTSTART:19700329T020000
RRULE:FREQ=YEARLY;BYMONTH=3;BYDAY=-1SU
END:DAYLIGHT
BEGIN:STANDARD
TZOFFSETFROM:+0200
TZOFFSETTO:+0100
TZNAME:CET
DTSTART:19701025T030000
RRULE:FREQ=YEARLY;BYMONTH=10;BYDAY=-1SU
END:STANDARD
END:VTIMEZONE
BEGIN:VEVENT
UID:2485226:Event:682436
DTSTAMP:20260422T072906Z
SUMMARY:Danse et fleurs de Bach
DESCRIPTION:Un Atelier  interactif animé par Nathalie Massot consult
 ante en Fleurs de Bach: Elle présentera avec des jeux et danses les F
 leurs de Bach. Aller au fil de l'expérience pour atteindre le coeur d
 e la connaissance. Quelle coopération les fleurs de Bach proposent-el
 les pour notre réalisation personnelle et planétaire ?\n Paf 10€ +
  du sucré ou du salé pour le buffet partagé\nLieu : salle Séguier,
  rue Pierre Curie à Nîmes (salle donnant sur la place située à l'a
 ngle de la rue Pierre Curie et rue Ste Perpétue)\nHoraire de 19h30 à
  22h00\n\nPour plus d'information, aller sur https://epanews.fr/events
 /danse-et-fleurs-de-bach
DTSTART;TZID=Europe/Paris:20120217T193000
DTEND;TZID=Europe/Paris:20120217T220000
CATEGORIES:30
LOCATION:Nîmes
WEBSITE:http://demainmaintenant.ning.com/group/deboucheoreilles
URL:http://demainmaintenant.ning.com/group/deboucheoreilles
CONTACT:0667111519
ORGANIZER:asso \"De Bouche à Oreilles
ATTACH;FMTTYPE="image/jpeg":http://storage.ning.com/topology/rest/1.0/
 file/get/1662553629?profile=original
ATTENDEE;ROLE=REQ-PARTICIPANT;PARTSTAT=ACCEPTED;RSVP=TRUE;CN="Marie-Pi
 erre Carlier":https://epanews.fr/profile/CARLIER
ATTENDEE;ROLE=REQ-PARTICIPANT;PARTSTAT=ACCEPTED;RSVP=TRUE;CN="alain ll
 oria":https://epanews.fr/profile/alainlloria
END:VEVENT
END:VCALENDAR
