BEGIN:VCALENDAR
PRODID:NingEventWidget-v1
VERSION:2.0
METHOD:PUBLISH
BEGIN:VTIMEZONE
TZID:Europe/Paris
X-LIC-LOCATION:Europe/Paris
BEGIN:DAYLIGHT
TZOFFSETFROM:+0100
TZOFFSETTO:+0200
TZNAME:CEST
DTSTART:19700329T020000
RRULE:FREQ=YEARLY;BYMONTH=3;BYDAY=-1SU
END:DAYLIGHT
BEGIN:STANDARD
TZOFFSETFROM:+0200
TZOFFSETTO:+0100
TZNAME:CET
DTSTART:19701025T030000
RRULE:FREQ=YEARLY;BYMONTH=10;BYDAY=-1SU
END:STANDARD
END:VTIMEZONE
BEGIN:VEVENT
UID:2485226:Event:1355215
DTSTAMP:20260422T200520Z
SUMMARY:Danse et chant de vie - 8 et 9 JUIN - Ile aux fÃ©es
DESCRIPTION:Retrouvez l'unitÃ© et la plÃ©nitude d'Ãªtre avecÂ Laurence
  Arpi\nwww.artiste-de-sa-vie.frs'aligner sur son axe terre ciels'ouvri
 r et danser la joieexpÃ©rimenter le chant qui guÃ©ritÂ la libertÃ© d'Ã
 ªtre en jouant avec le corps dÃ©passer le stress et les inhibitions os
 er vivre plus intensÃ©ment et joyeusement\nÂ pour vous inscrire suivez
  ce lienÂ Â \nRemise 20% pour toute inscription avant le 15 mai !\n\n\
 nÂ Profitez du cadre bucolique et des merveilleux jardins de l'Ile aux
  fÃ©esÂ pour une soirÃ©e douceur et ressourcement le samediÂ dÃ©licieu
 xÂ repas maisonÂ prÃ©parÃ©sÂ par notre hÃ´teÂ !Â \nÂ Â Remise 20% pour
  toute inscription avant le 15 mai !\nÂ pour vous inscrire suivez ce l
 ien\nÂ Groupe limitÃ© Ã  12 personnes :\n\ndÃ©pÃªchez - vous de rÃ©ser
 verÂ !\nÂ Horaires : 10h-16h\nÂ possibilitÃ©s de consultationsÂ coachi
 ng individuelÂ avec Laurence Arpi\nde 17h Ã  19h le samedi et le diman
 che Â \nÂ Lieu et accÃ¨s voir :Â www.ilofees.com\n(Situation : Ã  1h30
  de Lyon / 1h de Vienne / 35 minutes de Aix les Bains / 30 minutes de 
 ChambÃ©ry )Â Â \nÂ CoÃ»t du stageÂ :Â 125 â‚¬Â \nRepasÂ et collations 
 pausesÂ :Â 40 â‚¬\nÂ NuitÃ©eÂ et petit dÃ©jeunerÂ :Â 50 â‚¬\nÂ \nRemis
 e 20% pour toute inscription avant le 15 mai !\nRemise de 20% Ã©galeme
 nt pour les Ã©lÃ¨ves rÃ©guliersÂ de l'atelierÂ training et les abonnÃ©
 s coaching individuel\nÂ pour vous inscrire suivez ce lienÂ \nÂ Pour p
 lus de commoditÃ©s, vous pouvez arriver la veille au soir et dormir su
 r place.\nÂ HÃ©bergement possible pour la nuit de vendredi Ã  samediÂ 
 \nÂ Contact hÃ©bergement :\nÂ Sophie Tafi - L'Ã®le aux FÃ©es 511 chemi
 n des Fayet 38480 RomagnieuÂ 04 76 37 39 18 / 06 72 87 63 25Â  -Â soph
 ie.tafi@gmail.com\n\n\n\n\n\n\n\nPour plus d'information, aller sur ht
 tps://epanews.fr/events/danse-et-chant-de-vie-8-et-9-juin-ile-aux-f-es
DTSTART;TZID=Europe/Paris:20130515T100000
DTEND;TZID=Europe/Paris:20130515T190000
CATEGORIES:38
LOCATION:Romagnieu
WEBSITE:
URL:
CONTACT:04 75 93 30 14
ORGANIZER;CN="Laurence A. Coaching":https://epanews.fr/profile/artiste
 desavie
ATTACH;FMTTYPE="image/jpeg":
ATTENDEE;ROLE=REQ-PARTICIPANT;PARTSTAT=ACCEPTED;RSVP=TRUE;CN="Laurence
  A. Coaching":https://epanews.fr/profile/artistedesavie
END:VEVENT
END:VCALENDAR
