BEGIN:VCALENDAR
PRODID:NingEventWidget-v1
VERSION:2.0
METHOD:PUBLISH
BEGIN:VTIMEZONE
TZID:Europe/Paris
X-LIC-LOCATION:Europe/Paris
BEGIN:DAYLIGHT
TZOFFSETFROM:+0100
TZOFFSETTO:+0200
TZNAME:CEST
DTSTART:19700329T020000
RRULE:FREQ=YEARLY;BYMONTH=3;BYDAY=-1SU
END:DAYLIGHT
BEGIN:STANDARD
TZOFFSETFROM:+0200
TZOFFSETTO:+0100
TZNAME:CET
DTSTART:19701025T030000
RRULE:FREQ=YEARLY;BYMONTH=10;BYDAY=-1SU
END:STANDARD
END:VTIMEZONE
BEGIN:VEVENT
UID:2485226:Event:2920903
DTSTAMP:20260421T143442Z
SUMMARY:Danse en terre amérindienne
DESCRIPTION:Atelier de danses libres sur des chants traditionnels au t
 ambour en live.\nPrise de conscience de son corps, ancrage, présence 
 et respiration, mise en mouvement progressive, rituel amérindien.\nCo
 rinne Laurent: danse\nFrédéric Parment: chant et tambour\n\nPour plu
 s d'information, aller sur https://epanews.fr/events/danse-en-terre-am
 -rindienne
DTSTART;TZID=Europe/Paris:20180211T144500
DTEND;TZID=Europe/Paris:20180211T180000
CATEGORIES:34
LOCATION:Pézenas
WEBSITE:http://therapie.corporelle.free.fr
URL:http://therapie.corporelle.free.fr
CONTACT:04 67 90 20 12
ORGANIZER;CN="laurent corinne":https://epanews.fr/profile/laurentcorin
 ne
ATTACH;FMTTYPE="image/jpeg":
ATTENDEE;ROLE=REQ-PARTICIPANT;PARTSTAT=ACCEPTED;RSVP=TRUE;CN="laurent 
 corinne":https://epanews.fr/profile/laurentcorinne
END:VEVENT
END:VCALENDAR
