BEGIN:VCALENDAR
PRODID:NingEventWidget-v1
VERSION:2.0
METHOD:PUBLISH
BEGIN:VTIMEZONE
TZID:Europe/Paris
X-LIC-LOCATION:Europe/Paris
BEGIN:DAYLIGHT
TZOFFSETFROM:+0100
TZOFFSETTO:+0200
TZNAME:CEST
DTSTART:19700329T020000
RRULE:FREQ=YEARLY;BYMONTH=3;BYDAY=-1SU
END:DAYLIGHT
BEGIN:STANDARD
TZOFFSETFROM:+0200
TZOFFSETTO:+0100
TZNAME:CET
DTSTART:19701025T030000
RRULE:FREQ=YEARLY;BYMONTH=10;BYDAY=-1SU
END:STANDARD
END:VTIMEZONE
BEGIN:VEVENT
UID:2485226:Event:2781852
DTSTAMP:20260422T151309Z
SUMMARY:Danse des derviches tourneurs
DESCRIPTION:telier Découverte: Mouvements Rythmiques Danse du tournoi
 ement  25 & 26 février 2017\nOriginaires des traditions millénaires
  de la Perse ancienne, les exercices vitaux permettent de développer 
 la force, la souplesse, la coordination, la concentration et l'équili
 bre ... Avec la musique et le rythme pour points d'appui, mouvements e
 t danse s'unissent dans la spirale du tournoiement. Cette pratique pre
 nd tout son sens dans le monde actuel moderne, pour celui qui veut se 
 reconnecter à la dimension spirituelle de l’humain .\nwww.facebook.
 com/danse.sacree\n\n\nPour plus d'information, aller sur https://epane
 ws.fr/events/danse-des-derviches-tourneurs-1
DTSTART;TZID=Europe/Paris:20170225T060000
DTEND;TZID=Europe/Paris:20170226T150000
CATEGORIES:34
LOCATION:Studio Danse
WEBSITE:
URL:
CONTACT:
ORGANIZER;CN="Danse des derviches tourneurs-":https://epanews.fr/profi
 le/Sparfel925
ATTACH;FMTTYPE="image/jpeg":http://storage.ning.com/topology/rest/1.0/
 file/get/1663640422?profile=original
ATTENDEE;ROLE=REQ-PARTICIPANT;PARTSTAT=ACCEPTED;RSVP=TRUE;CN="Danse de
 s derviches tourneurs-":https://epanews.fr/profile/Sparfel925
END:VEVENT
END:VCALENDAR
