BEGIN:VCALENDAR
PRODID:NingEventWidget-v1
VERSION:2.0
METHOD:PUBLISH
BEGIN:VTIMEZONE
TZID:Europe/Paris
X-LIC-LOCATION:Europe/Paris
BEGIN:DAYLIGHT
TZOFFSETFROM:+0100
TZOFFSETTO:+0200
TZNAME:CEST
DTSTART:19700329T020000
RRULE:FREQ=YEARLY;BYMONTH=3;BYDAY=-1SU
END:DAYLIGHT
BEGIN:STANDARD
TZOFFSETFROM:+0200
TZOFFSETTO:+0100
TZNAME:CET
DTSTART:19701025T030000
RRULE:FREQ=YEARLY;BYMONTH=10;BYDAY=-1SU
END:STANDARD
END:VTIMEZONE
BEGIN:VEVENT
UID:2485226:Event:2200117
DTSTAMP:20260419T153248Z
SUMMARY:Danse de guÃ©rison des Grand MÃ¨res Maori
DESCRIPTION:LE HAKA est une danse de pouvoir traditionnelle pratiquÃ©e
  par les Maori Ã  Aotearoa - Nouvelle-ZÃ©lande. Ses caractÃ©ristiques 
 sont sa puissante expression vocale et ses mouvements dynamiques du co
 rps. Cet art dansÃ© favorise la guÃ©rison totale et ramÃ¨ne celles et 
 ceux qui le pratiquent dans leur propre puissance. LE GRANDMOTHERS HEA
 LING HAKA (GMHH), Ã©crit en 1998 par Ojasvin Kingi Davis et sa Grand-m
 Ã¨re Mere Tewake Tana, exprime la sagesse et l'amour des grand-mÃ¨res 
 Maori et Waitaha. Ce Haka est adaptÃ© aux hommes et aux femmes de tous
  Ã¢ges. Il apporte Ã©quilibre et harmonie dans nos vies et pour la Ter
 re MÃ¨re, et nous encourage Ã  nous lier Ã  la source intÃ©rieure de n
 otre crÃ©ativitÃ©. LE PROGRAMME D'APPRENTISSAGE INTÃ‰GRAL GMHH apporte
  l'Ã©quilibre des Ã©nergies masculines et fÃ©minines Ã  l'intÃ©rieur e
 t autour de nous, et fait un pont vers nos propres racines culturelles
 . Ce programme a Ã©tÃ© co-crÃ©Ã© par Ojasvin Kingi Davis et Iris Waima
 ania Davis en 2004, et ne cesse dâ€™Ã©voluer. Il allie la force du Hak
 a aux principes du Yoga de l'Apprentissage IntÃ©gral (Ecole Min-I.L.I.
 T.), et les fruits de leurs deux parcours. La danse, les mouvements co
 rporels, la gÃ©omÃ©trie sacrÃ©e, le chant, la mÃ©ditation, les rituels
  et les Ã©changes de parole au sein du groupe sont les Ã©lÃ©ments clÃ©
 s de cette aide prÃ©cieuse Ã  la transformation personnelle. OJASVIN e
 st Maori de la tribu Ngaitupoto, Ngatihine, Ngapuhi d'Aotearoa. La lig
 nÃ©e de ses ancÃªtres et ses traditions familiales remontent aux origi
 nes des Waitaha et Waiomu. IRIS WAIMAANIA est Suissesse de naissance e
 t vit depuis 2009 Ã  Aotearoa, pleinement connectÃ©e avec la culture d
 e son Ã©poux. En tant que reprÃ©sentants officiels du peuple Maori, il
 s parcourent ensemble le monde pour proposer leur Programme unique, le
 quel favorise et soutient l'Ã©veil de la vÃ©ritable Conscience de l'ÃŠ
 tre humain. Ojasvin et Waimaania sont enseignants certifiÃ©s de l'Ecol
 e Min-I.L.I.T. (Apprentissage IntÃ©gral, Action Intuitive) et font par
 tie du Cercle de Sagesse de l'Union des Traditions Ancestrales en Fran
 ce. www.grandmothershealinghaka.com, www.min-ilit.org  Tarifs : 310 â‚
 ¬ du 13 mai(soir) au 17 mai HÃ©bergement+frais sÃ©jour : chambre doubl
 e 15 â‚¬, dortoir 12 â‚¬, camping 8â‚¬ /nuit /personne Tarifs spÃ©ciau
 x (couples, familles, faibles revenus...), repas et tous renseignement
 s utiles : Marie-HÃ©lÃ¨ne Joudiou 06 61 32 22 01 ou assosacretoi@gmail
 .com RÃ©servation : envoyer coordonnÃ©es complÃ¨tes sur papier libre +
  chÃ¨que d'arrhes 100â‚¬ Ã  : Association SacrÃ© Toi! Place de l'Espla
 nade 30430 BARJAC\n\nPour plus d'information, aller sur https://epanew
 s.fr/events/danse-de-gu-rison-des-grand-m-res-maori
DTSTART;TZID=Europe/Paris:20150513T180000
DTEND;TZID=Europe/Paris:20150517T170000
CATEGORIES:07
LOCATION:ARDECHE
WEBSITE:http://www.pratiques-energetiques.com
URL:http://www.pratiques-energetiques.com
CONTACT:0661322201
ORGANIZER;CN="Marie-HÃ©lÃ¨ne JOUDIOU":https://epanews.fr/profile/Assoc
 iationSacreToi
ATTACH;FMTTYPE="image/jpeg":http://storage.ning.com/topology/rest/1.0/
 file/get/1663311494?profile=original
ATTENDEE;ROLE=REQ-PARTICIPANT;PARTSTAT=ACCEPTED;RSVP=TRUE;CN="Marie-HÃ
 ©lÃ¨ne JOUDIOU":https://epanews.fr/profile/AssociationSacreToi
END:VEVENT
END:VCALENDAR
