BEGIN:VCALENDAR
PRODID:NingEventWidget-v1
VERSION:2.0
METHOD:PUBLISH
BEGIN:VTIMEZONE
TZID:Europe/Paris
X-LIC-LOCATION:Europe/Paris
BEGIN:DAYLIGHT
TZOFFSETFROM:+0100
TZOFFSETTO:+0200
TZNAME:CEST
DTSTART:19700329T020000
RRULE:FREQ=YEARLY;BYMONTH=3;BYDAY=-1SU
END:DAYLIGHT
BEGIN:STANDARD
TZOFFSETFROM:+0200
TZOFFSETTO:+0100
TZNAME:CET
DTSTART:19701025T030000
RRULE:FREQ=YEARLY;BYMONTH=10;BYDAY=-1SU
END:STANDARD
END:VTIMEZONE
BEGIN:VEVENT
UID:2485226:Event:2027081
DTSTAMP:20260423T104740Z
SUMMARY:Session \"Dans les pas du Bouddha aujourd'hui\" à Lyon
DESCRIPTION:Animée par Lama Wangmo\nComment se détendre alors que to
 ut nous met sous tension ? Comment ralentir dans un monde qui accélè
 re ? Comment trouver la paix dans un environnement hostile ? A quelles
  valeurs adhérer dans le cynisme ambiant ? Comment se libérer des en
 traves de notre passé ? Comment faire des choix et les assumer ? Comm
 ent trouver de l’espace entre le boulot et les gosses ? Comment ne p
 as se brûler dans le feu des émotions ? Comment voir et accepter « 
 ce qui est » réellement dans la situation présente ? Comment transf
 ormer son regard, faire de ses imperfections, ses dysfonctionnement, s
 es lacunes des ressources et des alliés du quotidien ?  Comment pren
 dre une nouvelle direction de vie ? Comment ancrer une présence ouver
 te, féconde et spacieuse dans un milieu oppressant ? Comment apprendr
 e l’art de la chute, du savoir tomber, l’art de se jeter à l’ea
 u, de cuisiner les émotions, de prendre de la hauteur, d’être à l
 ’aise?\nLes sessions « Dans les pas du Bouddha aujourd’hui » d
 e Racines de la Présence proposent d’explorer ces questions à tra
 vers la vie et l’enseignement du Bouddha en écho à nos vies contem
 poraines et occidentales du XXIème siècle. Pour intégrer concrètem
 ent, personnellement et intimement ces enseignements, des exercices e
 t des mises en situation concrètes inspirés de thérapies cognitives
 , systémiques et comportementales seront proposés. Tout ce qui peut 
 servir à mieux intégrer le sens profond de l’enseignement dans not
 re contexte occidental sera abordé.\nCes ateliers seront l’opportun
 ité de reconnaître et de lever les obstacles à vivre un quotidien 
 plus serein dans les qualités de la présence inconditionnelle.\nIls 
 sont ouverts à toute personne désireuse d’une rencontre authentiq
 ue avec son expérience, indépendamment de toute obédience philosoph
 ique ou religieuse.\nHoraires > samedi : accueil à partir de 9h30, 
 début de l’atelier à 10h -12h30. 14h-17h. > dimanche : 9h30 – 
 13h. Il est possible de prendre le repas ensemble pour les personnes q
 ui le souhaitent avant de repartir.\nCoût de l’atelier\nPour les 
 membres du réseau Racines de la Présence : 90 € – offre de lanc
 ement Pour les non-membres : 160 € Pour les moins de 26 ans : 50 €
 \nPlus de renseignements :sur le site racinesdelapresence.com\n\n\nPou
 r plus d'information, aller sur https://epanews.fr/events/dans-les-pas
 -du-bouddha-aujourd-hui
DTSTART;TZID=Europe/Paris:20140927T000000
DTEND;TZID=Europe/Paris:20140928T235900
CATEGORIES:69
LOCATION:Lyon
WEBSITE:http://racinesdelapresence.com/blog/salle-des-cabirottes-lyon/
URL:http://racinesdelapresence.com/blog/salle-des-cabirottes-lyon/
CONTACT:04 77 28 51 47
ORGANIZER;CN="Racines de la présence":https://epanews.fr/profile/Raci
 nesdelapresence
ATTACH;FMTTYPE="image/jpeg":http://storage.ning.com/topology/rest/1.0/
 file/get/1663203743?profile=original
ATTENDEE;ROLE=REQ-PARTICIPANT;PARTSTAT=ACCEPTED;RSVP=TRUE;CN="Racines 
 de la présence":https://epanews.fr/profile/Racinesdelapresence
END:VEVENT
END:VCALENDAR
