BEGIN:VCALENDAR
PRODID:NingEventWidget-v1
VERSION:2.0
METHOD:PUBLISH
BEGIN:VTIMEZONE
TZID:Europe/Paris
X-LIC-LOCATION:Europe/Paris
BEGIN:DAYLIGHT
TZOFFSETFROM:+0100
TZOFFSETTO:+0200
TZNAME:CEST
DTSTART:19700329T020000
RRULE:FREQ=YEARLY;BYMONTH=3;BYDAY=-1SU
END:DAYLIGHT
BEGIN:STANDARD
TZOFFSETFROM:+0200
TZOFFSETTO:+0100
TZNAME:CET
DTSTART:19701025T030000
RRULE:FREQ=YEARLY;BYMONTH=10;BYDAY=-1SU
END:STANDARD
END:VTIMEZONE
BEGIN:VEVENT
UID:2485226:Event:425693
DTSTAMP:20260426T031833Z
SUMMARY:            Danielle et nelly au Salon du Lavandou
DESCRIPTION:Â \nBonjour Ã  tous et toutes\nNotre programme s'allonge .
 ..nous participerons Ã  divers salons, notmment au Salon du\nÂ Â Â Â Â
  Â Â Â Â Â Â Â  Â Lavandou (83)\nÂ Â Â Â Â Â Â Â Â Â Â Â le 8 et 9 Oct
 obre 2011\nSi vous passez par lÃ  merci de vos visites Ã  ces salonsne
 lly\n\nPour plus d'information, aller sur https://epanews.fr/events/da
 nielle-et-nelly-au-salon-du
DTSTART;TZID=Europe/Paris:20110722T180000
DTEND;TZID=Europe/Paris:20110722T190000
CATEGORIES:83
LOCATION:Toulon
WEBSITE:
URL:
CONTACT:06 07 76 14 95
ORGANIZER:corinne Scotto d'Apollinia
ATTACH;FMTTYPE="image/jpeg":
ATTENDEE;ROLE=REQ-PARTICIPANT;PARTSTAT=ACCEPTED;RSVP=TRUE;CN=nelly:htt
 ps://epanews.fr/profile/espacenellybl
END:VEVENT
END:VCALENDAR
