BEGIN:VCALENDAR
PRODID:NingEventWidget-v1
VERSION:2.0
METHOD:PUBLISH
BEGIN:VTIMEZONE
TZID:Europe/Paris
X-LIC-LOCATION:Europe/Paris
BEGIN:DAYLIGHT
TZOFFSETFROM:+0100
TZOFFSETTO:+0200
TZNAME:CEST
DTSTART:19700329T020000
RRULE:FREQ=YEARLY;BYMONTH=3;BYDAY=-1SU
END:DAYLIGHT
BEGIN:STANDARD
TZOFFSETFROM:+0200
TZOFFSETTO:+0100
TZNAME:CET
DTSTART:19701025T030000
RRULE:FREQ=YEARLY;BYMONTH=10;BYDAY=-1SU
END:STANDARD
END:VTIMEZONE
BEGIN:VEVENT
UID:2485226:Event:1608640
DTSTAMP:20260423T100730Z
SUMMARY:Développer intuition et ressenti
DESCRIPTION:Apprendre à décoder  et ressentir notre langage intéri
 eur,\npour en faire un allié\n-Qu'est-ce que l'intuition? Les mécani
 smes intuitifs - Bilan de votre fonctionnement intuitif : quel est vot
 re mode de perception? -Pourquoi développer intuition et ressenti? -S
 e préparer à accueillir l'intuition - visualisations créatrices - S
 ynchronicité - Exercices pratiques\n\nVous repartirez avec des fiches
  d'exercices à effectuer au quotidien ainsi qu'avec votre tableau de 
 visualisation( lié à votre projet de réalisation personnelle), réa
 lisé sous forme de collages durant le stage.\n\n \nprévoir carnet d
 e notes, veilles revues ou images personnelles à découper, tenue con
 fortable, repas du midi pour un moment de partage!Sur place, il y aura
  café et thés, ainsi que des sucreries pour le goûter...\n \nde 10
 h à 18h (accueil à partir de 9h30 autour d'un café ou d'un thé) le
 s 2 jourstarif 75euros/jour, soit 150 euros pour le week-end pour les 
 adhérents (vous pouvez vous pré-inscrire ici ) Tarif réduit petits 
 budget 55 euros/jour soit 110 euros le week-end Châteaurenard (13)\n\
 nPour plus d'information, aller sur https://epanews.fr/events/d-velopp
 er-intuition-et-ressenti
DTSTART;TZID=Europe/Paris:20131116T093000
DTEND;TZID=Europe/Paris:20131117T170000
CATEGORIES:84
LOCATION:Avignon
WEBSITE:http://odysseecreative.fr
URL:http://odysseecreative.fr
CONTACT:0665423170
ORGANIZER;CN="Alexandra Merer":https://epanews.fr/profile/AlexandraMer
 er
ATTACH;FMTTYPE="image/jpeg":http://storage.ning.com/topology/rest/1.0/
 file/get/1662959246?profile=original
ATTENDEE;ROLE=REQ-PARTICIPANT;PARTSTAT=ACCEPTED;RSVP=TRUE;CN="Alexandr
 a Merer":https://epanews.fr/profile/AlexandraMerer
END:VEVENT
END:VCALENDAR
