BEGIN:VCALENDAR
PRODID:NingEventWidget-v1
VERSION:2.0
METHOD:PUBLISH
BEGIN:VTIMEZONE
TZID:Europe/Paris
X-LIC-LOCATION:Europe/Paris
BEGIN:DAYLIGHT
TZOFFSETFROM:+0100
TZOFFSETTO:+0200
TZNAME:CEST
DTSTART:19700329T020000
RRULE:FREQ=YEARLY;BYMONTH=3;BYDAY=-1SU
END:DAYLIGHT
BEGIN:STANDARD
TZOFFSETFROM:+0200
TZOFFSETTO:+0100
TZNAME:CET
DTSTART:19701025T030000
RRULE:FREQ=YEARLY;BYMONTH=10;BYDAY=-1SU
END:STANDARD
END:VTIMEZONE
BEGIN:VEVENT
UID:2485226:Event:2781491
DTSTAMP:20260422T191717Z
SUMMARY:Développement personnel par le jeu scénique et corporel
DESCRIPTION:\n\n\n\n\n\n\nBesoin de vous ressourcer ? De lâcher ce q
 ui vous encombre ?\n   De vous épanouir dans la créativité du je
 u et de l’imaginaire ?\n   De vous sentir plus unifié, en harmoni
 e avec vous même ?\n \n\nCet atelier réunit le ressourcement inté
 rieur (relaxation, méditation, respiration…) et la pratique d’un
 e expression scénique multiple et riche  (jouée, dansée, chantée
 , clownesque…)\nAvec Francine Lorin-Blazquez comédienne et art thé
 rapeute\n http://lescontesdecerfinalinor.weebly.com/francine-lorin-bl
 azquez.html\nRenseignements et inscriptions dans le flyer ci dessous\n
 FLYER%20ATELIER%20THEATRE.pdf\n\n\n\n\n\n\n\n\n\n\n\n\n\nPour plus d'i
 nformation, aller sur https://epanews.fr/events/d-veloppement-personne
 l-par-le-jeu-sc-nique-et-corporel
DTSTART;TZID=Europe/Paris:20170225T000000
DTEND;TZID=Europe/Paris:20170225T235900
CATEGORIES:69
LOCATION:GENAY
WEBSITE:
URL:
CONTACT:0683399530
ORGANIZER:
ATTACH;FMTTYPE="image/jpeg":http://storage.ning.com/topology/rest/1.0/
 file/get/1663640091?profile=original
ATTENDEE;ROLE=REQ-PARTICIPANT;PARTSTAT=ACCEPTED;RSVP=TRUE;CN="Frane Lo
 ":https://epanews.fr/profile/FraneLo
END:VEVENT
END:VCALENDAR
