BEGIN:VCALENDAR
PRODID:NingEventWidget-v1
VERSION:2.0
METHOD:PUBLISH
BEGIN:VTIMEZONE
TZID:Europe/Paris
X-LIC-LOCATION:Europe/Paris
BEGIN:DAYLIGHT
TZOFFSETFROM:+0100
TZOFFSETTO:+0200
TZNAME:CEST
DTSTART:19700329T020000
RRULE:FREQ=YEARLY;BYMONTH=3;BYDAY=-1SU
END:DAYLIGHT
BEGIN:STANDARD
TZOFFSETFROM:+0200
TZOFFSETTO:+0100
TZNAME:CET
DTSTART:19701025T030000
RRULE:FREQ=YEARLY;BYMONTH=10;BYDAY=-1SU
END:STANDARD
END:VTIMEZONE
BEGIN:VEVENT
UID:2485226:Event:707198
DTSTAMP:20260423T212604Z
SUMMARY:Déprogrammer l'illusion
DESCRIPTION:Rencontre avec la Rose Croix\nDEPROGRAMMER L'ILLUSION\nNou
 s rêvons de beauté, justice, richesse, amour, force...et n'atteignon
 s qu'une faible projection de la réalité souhaitée. De simples illu
 sions mouvantes, qui se changent en leur contraire... Alors comment se
  défaire des illusions et accéder aux idéaux et valeurs vraies, imm
 uables et intangibles? Fin prévue de cet évènement : 22:00\n\nPour 
 plus d'information, aller sur https://epanews.fr/events/d-programmer-l
 -illusion
DTSTART;TZID=Europe/Paris:20120420T200000
DTEND;TZID=Europe/Paris:20120420T220000
CATEGORIES:83
LOCATION:Toulon
WEBSITE:http://toulon-nice.rose-croix-d-or.org/
URL:http://toulon-nice.rose-croix-d-or.org/
CONTACT:
ORGANIZER;CN="jean claude":https://epanews.fr/profile/Adamowski
ATTACH;FMTTYPE="image/jpeg":http://storage.ning.com/topology/rest/1.0/
 file/get/1662559529?profile=original
ATTENDEE;ROLE=REQ-PARTICIPANT;PARTSTAT=ACCEPTED;RSVP=TRUE;CN="THERAPY 
 BIEN ETRE":https://epanews.fr/profile/cristalviolet
ATTENDEE;ROLE=REQ-PARTICIPANT;PARTSTAT=ACCEPTED;RSVP=TRUE;CN="jean cla
 ude":https://epanews.fr/profile/Adamowski
END:VEVENT
END:VCALENDAR
