BEGIN:VCALENDAR
PRODID:NingEventWidget-v1
VERSION:2.0
METHOD:PUBLISH
BEGIN:VTIMEZONE
TZID:Europe/Paris
X-LIC-LOCATION:Europe/Paris
BEGIN:DAYLIGHT
TZOFFSETFROM:+0100
TZOFFSETTO:+0200
TZNAME:CEST
DTSTART:19700329T020000
RRULE:FREQ=YEARLY;BYMONTH=3;BYDAY=-1SU
END:DAYLIGHT
BEGIN:STANDARD
TZOFFSETFROM:+0200
TZOFFSETTO:+0100
TZNAME:CET
DTSTART:19701025T030000
RRULE:FREQ=YEARLY;BYMONTH=10;BYDAY=-1SU
END:STANDARD
END:VTIMEZONE
BEGIN:VEVENT
UID:2485226:Event:2647578
DTSTAMP:20260421T135802Z
SUMMARY:Déployer votre diamant intérieur
DESCRIPTION:CONFERENCE DEDICACE EXCEPTIONNELLE à Bordeaux avec le Do
 cteur Tal SCHALLER  et Johanne RAZANAMAHAY\nImaginez ! ... Vous créer
  à chaque seconde tout ce qui existe dans l'univers, de la plus petit
 e particule d'atomes aux milliards d'étoiles qui peuplent la galaxie.
  Vous êtes le créateur de l'ensemble de ces merveilles !\nInlassable
 ment, votre Diamant intérieur s'active pour créer tout ce que vous v
 ivez à chaque instant !\nN'est-ce pas fabuleux ?\nVenez découvrir co
 mment déployer votre diamant intérieur !\nLe Docteur Tal Schaller es
 t un médecin généraliste qui a dévoué la plus grande partie de sa
  carrière à la médecine holistique. Naturopathe, homéopathe, acupu
 ncteur, ostéopathe, chamane et psychothérapeute, il est un véritabl
 e expert de la médecine alternative. Pionnier de la santé, penseur a
 vant-gardiste, conférencier et écrivain, il a publié de nombreux ou
 vrages de référence sur les thèmes de la spiritualité et la santé
  holistique. Il nous invite à sortir de l’hypnose collective pour v
 ivre dans la joie et la conscience.\n\nMédium, chamane, psychothérap
 eute, philosophe, écrivaine et conférencière, Johanne Razanamahay d
 onne des conférences un peu partout dans le monde, anime des séminai
 res sur la santé globale et le chamansime. Leur dernier ouvrage paru 
 en 2016 est  « Réalisez vos rêves par la pensée positive ».\n
 Tarif : 10 euros  Billets en vente à la librairie (13 rue Toulouse La
 utrec à Bordeaux) ou via notre site :  www.librairie-pegase.fr \n
 \nConférence organisée en partenariat avec l'association Bebooda\n\n
 \n\nPour plus d'information, aller sur https://epanews.fr/events/d-plo
 yer-votre-diamant-int-rieur
DTSTART;TZID=Europe/Paris:20160611T143000
DTEND;TZID=Europe/Paris:20160611T170000
CATEGORIES:47, 33, 24, 40, 64, 17
LOCATION:Salle Athénée Père Joseph Wresinski
WEBSITE:http://www.librairie-pegase.fr
URL:http://www.librairie-pegase.fr
CONTACT:05 56 51 38 12
ORGANIZER;CN="Librairie PEGASE":https://epanews.fr/profile/LibrairiePE
 GASE
ATTACH;FMTTYPE="image/jpeg":http://storage.ning.com/topology/rest/1.0/
 file/get/1663565058?profile=original
ATTENDEE;ROLE=REQ-PARTICIPANT;PARTSTAT=ACCEPTED;RSVP=TRUE;CN="Librairi
 e PEGASE":https://epanews.fr/profile/LibrairiePEGASE
END:VEVENT
END:VCALENDAR
