BEGIN:VCALENDAR
PRODID:NingEventWidget-v1
VERSION:2.0
METHOD:PUBLISH
BEGIN:VTIMEZONE
TZID:Europe/Paris
X-LIC-LOCATION:Europe/Paris
BEGIN:DAYLIGHT
TZOFFSETFROM:+0100
TZOFFSETTO:+0200
TZNAME:CEST
DTSTART:19700329T020000
RRULE:FREQ=YEARLY;BYMONTH=3;BYDAY=-1SU
END:DAYLIGHT
BEGIN:STANDARD
TZOFFSETFROM:+0200
TZOFFSETTO:+0100
TZNAME:CET
DTSTART:19701025T030000
RRULE:FREQ=YEARLY;BYMONTH=10;BYDAY=-1SU
END:STANDARD
END:VTIMEZONE
BEGIN:VEVENT
UID:2485226:Event:2691375
DTSTAMP:20260421T184518Z
SUMMARY:DÃ©couvrir les arcanes mineures du Tarot
DESCRIPTION:En France, on a tendance Ã  trouver que les arcanes mineur
 es du Tarot sont difficiles. Au final, câ€™est toujours la mÃªme histo
 ireÂ : on achÃ¨te un tarot de Marseille, il a 78 cartes, les cartes ab
 straites rebutent, on les met au placard voire Ã  la poubelleâ€¦\nSeul
 ement, il est beaucoup plus compliquÃ© de sâ€™exprimer clairement avec
  22 mots de vocabulaire quâ€™avec 78 â€“ surtout si on a mis de cÃ´tÃ©
  les plus simples et les plus concrets.\nLes jeux de Tarot ont 78 cart
 es pour une bonne raison. Comme leur nom lâ€™indique, les Â«Â mineures
 Â Â» sont plus petites, plus simples que les majeures. A cÃ´tÃ© de cel
 le des majeures, leur Ã©tude est un jeu dâ€™enfantâ€¦ encore faut-il Ã
 ªtre au courant. On ignore encore largement en France une solution qui
  fait fureur partout ailleurs depuis 1910 : le Rider-Waite, tarot le p
 lus connu au monde, Ã©quivalent du tarot de Marseilleâ€¦ mais dont les
  illustrations reprÃ©sentent clairement les significations des arcanes
  mineures.\nSuivant son exemple, je vous propose de vous exposer lâ€™e
 nsemble du systÃ¨me des mineures du point de vue de la tradition anglo
 -saxonneÂ : pragmatique, moderne et surtout lisible, pour ceux qui veu
 lent des tirages plus parlants, plus prÃ©cis, plus faciles Ã  lire, av
 ec le jeu complet.\n\nCe que ce cours apporteÂ :\nâ€¢Â Un systÃ¨me sim
 ple et cohÃ©rent. Une fois son fonctionnement compris, ce nâ€™est plus
  la peine de mÃ©moriser des suites de significations.\nâ€¢Â Des exempl
 es concrets issus de la pratique (des centaines de tirages professionn
 els en tarot psychologique), pour faire vivre les cartes loin des disc
 ours thÃ©oriques abstraits.\nâ€¢Â Des exercices pour prendre confiance
  et dÃ©couvrir de multiples techniques dâ€™interprÃ©tation.\nIl se dÃ©
 roulera en 3 sÃ©ances dâ€™environ une heure et demie chacune, aprÃ¨s l
 esquelles les mineures nâ€™auront plus de secrets pour vous.\n\nElles 
 auront lieu les mardi 23, jeudi 25 et vendredi 26, Ã  partir de 19h30 
 au studio 90. Au programme :\n1/ De quoi elles parlentÂ : Ã©lÃ©ments e
 t systÃ¨me gÃ©nÃ©ralÂ + BÃ¢tons 1-10 (mardi) \nPour comprendre Ã  quoi
  rÃ©pondent les mineures, apprendre Ã  retrouver une signification fac
 ilement, et maÃ®triser la premiÃ¨re notion.\n2/ Coupes 1-10, Ã‰pÃ©es 1
 -10 et Deniers 1-10 (jeudi)\nPour finir le systÃ¨me des mineures et bi
 en comprendre toutes les cartes Ã  chiffre.\n3/ Honneurs ou figures de
  cour + Techniques de tirage et dâ€™interprÃ©tation pour le jeu comple
 t (vendredi)\nPour dÃ©couvrir que le systÃ¨me des honneurs nâ€™a jamai
 s Ã©tÃ© aussi simple, avant de faire des exercices dâ€™interprÃ©tation
  et voir par vous-mÃªme Ã  quel point les mineures aident Ã  rendre un
  tirage concret.\n\nLes trois sÃ©ances auront lieu au Studio 90, 90 ru
 e dâ€™Hauteville, Paris 10Ã¨me. Prix : 25â‚¬ la sÃ©ance (sur place). C
 ycle confirmÃ© Ã  partir de 3 inscrits.\n\nPour en savoir plus : Les M
 ots Clefs du Tarot\n\nPour plus d'information, aller sur https://epane
 ws.fr/events/d-couvrir-les-arcanes-mineures-du-tarot
DTSTART;TZID=Europe/Paris:20160823T193000
DTEND;TZID=Europe/Paris:20160826T213000
CATEGORIES:75
LOCATION:Studio 90
WEBSITE:http://les-mots-clefs.com/cours-tarot-paris/#atelier
URL:http://les-mots-clefs.com/cours-tarot-paris/#atelier
CONTACT:http://les-mots-clefs.com/contact/
ORGANIZER;CN=Emmanuelle:https://epanews.fr/profile/Emmanuelle202
ATTACH;FMTTYPE="image/jpeg":http://storage.ning.com/topology/rest/1.0/
 file/get/1663591452?profile=original
ATTENDEE;ROLE=REQ-PARTICIPANT;PARTSTAT=ACCEPTED;RSVP=TRUE;CN=Emmanuell
 e:https://epanews.fr/profile/Emmanuelle202
END:VEVENT
END:VCALENDAR
