BEGIN:VCALENDAR
PRODID:NingEventWidget-v1
VERSION:2.0
METHOD:PUBLISH
BEGIN:VTIMEZONE
TZID:Europe/Paris
X-LIC-LOCATION:Europe/Paris
BEGIN:DAYLIGHT
TZOFFSETFROM:+0100
TZOFFSETTO:+0200
TZNAME:CEST
DTSTART:19700329T020000
RRULE:FREQ=YEARLY;BYMONTH=3;BYDAY=-1SU
END:DAYLIGHT
BEGIN:STANDARD
TZOFFSETFROM:+0200
TZOFFSETTO:+0100
TZNAME:CET
DTSTART:19701025T030000
RRULE:FREQ=YEARLY;BYMONTH=10;BYDAY=-1SU
END:STANDARD
END:VTIMEZONE
BEGIN:VEVENT
UID:2485226:Event:1312971
DTSTAMP:20260423T230858Z
SUMMARY:Découvrir le Wuo Tai
DESCRIPTION:\n\nPour plus d'information, aller sur https://epanews.fr/
 events/d-couvrir-le-wuo-tai
DTSTART;TZID=Europe/Paris:20130501T170000
DTEND;TZID=Europe/Paris:20130501T190000
CATEGORIES:02
LOCATION:Salle du Vivier
WEBSITE:http://www.danseursdevie.fr
URL:http://www.danseursdevie.fr
CONTACT:06 73 21 12 70
ORGANIZER;CN="Sabine BERNARD":https://epanews.fr/profile/SabineBERNARD
ATTACH;FMTTYPE="image/jpeg":http://storage.ning.com/topology/rest/1.0/
 file/get/1662813840?profile=original
ATTENDEE;ROLE=REQ-PARTICIPANT;PARTSTAT=ACCEPTED;RSVP=TRUE;CN="Sabine B
 ERNARD":https://epanews.fr/profile/SabineBERNARD
END:VEVENT
END:VCALENDAR
