BEGIN:VCALENDAR
PRODID:NingEventWidget-v1
VERSION:2.0
METHOD:PUBLISH
BEGIN:VTIMEZONE
TZID:Europe/Paris
X-LIC-LOCATION:Europe/Paris
BEGIN:DAYLIGHT
TZOFFSETFROM:+0100
TZOFFSETTO:+0200
TZNAME:CEST
DTSTART:19700329T020000
RRULE:FREQ=YEARLY;BYMONTH=3;BYDAY=-1SU
END:DAYLIGHT
BEGIN:STANDARD
TZOFFSETFROM:+0200
TZOFFSETTO:+0100
TZNAME:CET
DTSTART:19701025T030000
RRULE:FREQ=YEARLY;BYMONTH=10;BYDAY=-1SU
END:STANDARD
END:VTIMEZONE
BEGIN:VEVENT
UID:2485226:Event:2864013
DTSTAMP:20260421T185902Z
SUMMARY:Découvrir le Reïki
DESCRIPTION:Je vous propose de partager, pendant une demi-journée, de
 s échanges REIKI, que vous pouvez pour certains découvrir et pour d'
 autres pratiquer.\nLUNDI 04 SEPTEMBRE 2017 DE 19H A 23H\nLe Reïki es
 t une méthode d'origine japonaise de transmission d'énergie par l'ap
 position des mains. C'est une méthode naturelle, destinée à harmoni
 ser le corps, les émotions et l'esprit. C'est également un excellent
  moyen de faire le plein d'énergie et de se ressourcer.\nPARTICIPATIO
 N : 10 euros par personne pour la location de la salle.\nOuvert à to
 us, praticiens ou non. Tous les participants pourront recevoir et donn
 er des soins de REIKI (prévoir des vêtements confortables et des cha
 ussettes).\nPROGRAMME\n\n19h00 - 19h30 : accueil (café, thé, jus de 
 fruits, biscuits)\n19h30 - 19h45 : présentation du REIKI et démonst
 ration du protocole de soin\n19h45 - 21h00 : échange de soin (par gr
 oupe de 3 ou 4 par table)\n21h00 - 21h30 : en-cas avec ce que chacun a
 ura emmené (salé, sucré, boissons...)\n21h30 - 22h30 : échange de 
 soin par groupe de 3 ou 4 par table)\n22h30 - 23h00 : échange des sen
 sations et questions \n\n \nVos amis, les amis de vos amis...... son
 t les bienvenus.\n \nLIEU DE LA RENCONTRE :\nESPACE \"LE SOLEIL INTE
 RIEUR\" - 18 rue Francis Davsor - 13001 MARSEILLE\nLe nombre de place
 s étant limité, merci de réserver à l'avance.\nInscription obligat
 oire au 06 87 45 37 73\n\nPour plus d'information, aller sur https://e
 panews.fr/events/d-couvrir-le-re-ki
DTSTART;TZID=Europe/Paris:20170904T190000
DTEND;TZID=Europe/Paris:20170904T230000
CATEGORIES:13
LOCATION:ESPACE DU SOLEIL INTERIEUR
WEBSITE:
URL:
CONTACT:0687453773
ORGANIZER;CN=Pertuisienne:https://epanews.fr/profile/Pertuisienne
ATTACH;FMTTYPE="image/jpeg":http://storage.ning.com/topology/rest/1.0/
 file/get/1663685343?profile=original
ATTENDEE;ROLE=REQ-PARTICIPANT;PARTSTAT=ACCEPTED;RSVP=TRUE;CN=Pertuisie
 nne:https://epanews.fr/profile/Pertuisienne
END:VEVENT
END:VCALENDAR
