BEGIN:VCALENDAR
PRODID:NingEventWidget-v1
VERSION:2.0
METHOD:PUBLISH
BEGIN:VTIMEZONE
TZID:Europe/Paris
X-LIC-LOCATION:Europe/Paris
BEGIN:DAYLIGHT
TZOFFSETFROM:+0100
TZOFFSETTO:+0200
TZNAME:CEST
DTSTART:19700329T020000
RRULE:FREQ=YEARLY;BYMONTH=3;BYDAY=-1SU
END:DAYLIGHT
BEGIN:STANDARD
TZOFFSETFROM:+0200
TZOFFSETTO:+0100
TZNAME:CET
DTSTART:19701025T030000
RRULE:FREQ=YEARLY;BYMONTH=10;BYDAY=-1SU
END:STANDARD
END:VTIMEZONE
BEGIN:VEVENT
UID:2485226:Event:2943683
DTSTAMP:20260421T113251Z
SUMMARY:JournÃ©e nationale MÃ©thode Feldenkrais
DESCRIPTION:Â  JournÃ©e Nationale Feldenkrais le 7 AVRIL\nÂ Â Â Â Â Â 
 Â Â Â Â Â Â Â Â Â Â  MÃ©thode FELDENKRAIS\nMÃ©thode d'Ã©ducation somat
 ique, reposant sur l'idÃ©e simple que l'Ãªtre humain n'utilise pas tou
 tes les capacitÃ©s dont il est potentiellement porteur, qu'elles soien
 t physiques ou psychiques.\nA travers l'exploration du geste, cette mÃ
 ©thode consiste Ã  renouer avec l'apprentissage innÃ© de l'enfant, Ã  
 dÃ©couvrir nos routines comportementales, puis Ã  explorer de nouveaux
  chemins pour effectuer nos mouvements.\nFaire sauter les blocages,les
  verrous,l'enfermement que nous nous sommes crÃ©Ã©s au fil du temps.\n
 Cette mÃ©thode va nous permettre de mieux laisser passer l'Ã©nergie, e
 t de trouver une grande libertÃ© de mouvement et de pensÃ©e\nCours dÃ©
 couverte gratuit, confÃ©rences, livres...\n15h Cours gratuit - PCM\n16
 h Cours gratuit - PCM\nPause Questions / RÃ©ponses\n17h30 VidÃ©os sur 
 Moshe Feldenkrais, et son travail\n19h Fin\nInscription obligatoire, t
 el ou texto\nPrÃ©voir son tapis de sol, ou Ã©quivalent\n0619778327\n\n
 \n\n\nPour plus d'information, aller sur https://epanews.fr/events/d-c
 ouvrir-la-m-thode-feldenkrais-6
DTSTART;TZID=Europe/Paris:20180407T150000
DTEND;TZID=Europe/Paris:20180407T190000
CATEGORIES:83
LOCATION:Salle des Lentisques SANARY
WEBSITE:http://lecorpsdutango.blog4ever.com
URL:http://lecorpsdutango.blog4ever.com
CONTACT:0619778327
ORGANIZER;CN="Anne-Marie PAILLARD":https://epanews.fr/profile/AnneMari
 ePAILLARD
ATTACH;FMTTYPE="image/jpeg":http://storage.ning.com/topology/rest/1.0/
 file/get/1663699776?profile=original
ATTENDEE;ROLE=REQ-PARTICIPANT;PARTSTAT=ACCEPTED;RSVP=TRUE;CN="Anne-Mar
 ie PAILLARD":https://epanews.fr/profile/AnneMariePAILLARD
END:VEVENT
END:VCALENDAR
