BEGIN:VCALENDAR
PRODID:NingEventWidget-v1
VERSION:2.0
METHOD:PUBLISH
BEGIN:VTIMEZONE
TZID:Europe/Paris
X-LIC-LOCATION:Europe/Paris
BEGIN:DAYLIGHT
TZOFFSETFROM:+0100
TZOFFSETTO:+0200
TZNAME:CEST
DTSTART:19700329T020000
RRULE:FREQ=YEARLY;BYMONTH=3;BYDAY=-1SU
END:DAYLIGHT
BEGIN:STANDARD
TZOFFSETFROM:+0200
TZOFFSETTO:+0100
TZNAME:CET
DTSTART:19701025T030000
RRULE:FREQ=YEARLY;BYMONTH=10;BYDAY=-1SU
END:STANDARD
END:VTIMEZONE
BEGIN:VEVENT
UID:2485226:Event:966049
DTSTAMP:20260420T005736Z
SUMMARY:Découvrir la Biodanza
DESCRIPTION:Un atelier pour découvrir la Biodanza, co-animé par de n
 ombreux professeurs de la région parisienne. Le mouvement en musique 
 pour mettre plus de vie dans notre vie, porté par le professeur et le
  groupe; de la joie de vivre et du bien-être à partager, venez essay
 er ce vendredi 12!\n\nPour plus d'information, aller sur https://epane
 ws.fr/events/d-couvrir-la-biodanza
DTSTART;TZID=Europe/Paris:20121012T190000
DTEND;TZID=Europe/Paris:20121012T220000
CATEGORIES:75
LOCATION:forum 104, 104 rue de Vaugirad, métro St-Sulpice
WEBSITE:
URL:
CONTACT:
ORGANIZER;CN=biodanza-Edwige:https://epanews.fr/profile/biodanzaEdwige
ATTACH;FMTTYPE="image/jpeg":
ATTENDEE;ROLE=REQ-PARTICIPANT;PARTSTAT=ACCEPTED;RSVP=TRUE;CN=biodanza-
 Edwige:https://epanews.fr/profile/biodanzaEdwige
END:VEVENT
END:VCALENDAR
