BEGIN:VCALENDAR
PRODID:NingEventWidget-v1
VERSION:2.0
METHOD:PUBLISH
BEGIN:VTIMEZONE
TZID:Europe/Paris
X-LIC-LOCATION:Europe/Paris
BEGIN:DAYLIGHT
TZOFFSETFROM:+0100
TZOFFSETTO:+0200
TZNAME:CEST
DTSTART:19700329T020000
RRULE:FREQ=YEARLY;BYMONTH=3;BYDAY=-1SU
END:DAYLIGHT
BEGIN:STANDARD
TZOFFSETFROM:+0200
TZOFFSETTO:+0100
TZNAME:CET
DTSTART:19701025T030000
RRULE:FREQ=YEARLY;BYMONTH=10;BYDAY=-1SU
END:STANDARD
END:VTIMEZONE
BEGIN:VEVENT
UID:2485226:Event:2932831
DTSTAMP:20260421T143940Z
SUMMARY:DÃ©couvrir et expÃ©rimenter lâ€™Ã©nergie des crÃ¢nes de crista
 l anciens
DESCRIPTION:Le samedi 17 fÃ©vrier 2018\nde 10h Ã  18h\nDÃ©couvrir et e
 xpÃ©rimenter\nlâ€™Ã©nergie des crÃ¢nes de cristal anciens\n\nRessentir
  et faire vibrer nos cristaux intÃ©rieurs\nNotre corps possÃ¨de dÃ©jÃ 
  en lui des cristaux de magnÃ©tites, du silicium et les cristaux de la
  glande pinÃ©ale se forment et sâ€™activent chez les humains de plus e
 n plus Ã©veillÃ©s. Vous expÃ©rimenterez le travail doux et puissant de
 s crÃ¢nes de cristal pour accroitre vos facultÃ©s naturelles.\nOuvrir 
 notre conscience cristalline\nEn nous mettant en rÃ©sonance avec les c
 rÃ¢nes de cristal anciens, gardiens de la mÃ©moire et des connaissance
 s, nous ouvrons notre conscience cristalline et dÃ©veloppons nos capac
 itÃ©s extra-ordinaires. Vous dÃ©couvrirez comment vous reconnecter Ã  
 vos Ã©nergies cristallines pour apprendre Ã  maitriser le cristal en s
 oi.\nMÃ©ditation guidÃ©e avec les Etres de LumiÃ¨re de lâ€™Astre Crist
 al\nImanna est reliÃ©e en tant que channel aux ÃŠtre de LumiÃ¨re de lâ
 €™Astre Cristal, des Ãªtres attentionnÃ©s et heureux de pouvoir nous a
 ccompagner dans notre Ã©volution ici sur terre et nous aider Ã  rÃ©vei
 ller nos Ã©nergies cristallines.\nImanna canalise Ã©galement toutes le
 s Ã©nergies bienveillantes auxquelles est connectÃ©e la Crystal TEAM.\
 nSous la forme dâ€™une mÃ©ditation guidÃ©e spÃ©cifique pour lâ€™assemb
 lÃ©e prÃ©sente, toutes ces Ã©nergies rassemblÃ©es vous transmettront u
 n message pour tous et vous offriront un message personnel.\nprogramme
  complet en cliquant sur ce lien\n\nRenseignements et inscriptions\nha
 rmonieetconscience888@orange.fr\nou au 06 74 50 62 68\n\nPour plus d'i
 nformation, aller sur https://epanews.fr/events/d-couvrir-et-exp-rimen
 ter-l-nergie-des-cr-nes-de-cristal-anciens
DTSTART;TZID=Europe/Paris:20180217T100000
DTEND;TZID=Europe/Paris:20180217T180000
CATEGORIES:75
LOCATION:Paris 14Ã¨me
WEBSITE:http://www.harmonie-et-conscience.com
URL:http://www.harmonie-et-conscience.com
CONTACT:06 74 50 62 68
ORGANIZER;CN="Harmonie et Conscience":https://epanews.fr/profile/Harmo
 nieetConscience
ATTACH;FMTTYPE="image/jpeg":
ATTENDEE;ROLE=REQ-PARTICIPANT;PARTSTAT=ACCEPTED;RSVP=TRUE;CN="Harmonie
  et Conscience":https://epanews.fr/profile/HarmonieetConscience
END:VEVENT
END:VCALENDAR
