BEGIN:VCALENDAR
PRODID:NingEventWidget-v1
VERSION:2.0
METHOD:PUBLISH
BEGIN:VTIMEZONE
TZID:Europe/Paris
X-LIC-LOCATION:Europe/Paris
BEGIN:DAYLIGHT
TZOFFSETFROM:+0100
TZOFFSETTO:+0200
TZNAME:CEST
DTSTART:19700329T020000
RRULE:FREQ=YEARLY;BYMONTH=3;BYDAY=-1SU
END:DAYLIGHT
BEGIN:STANDARD
TZOFFSETFROM:+0200
TZOFFSETTO:+0100
TZNAME:CET
DTSTART:19701025T030000
RRULE:FREQ=YEARLY;BYMONTH=10;BYDAY=-1SU
END:STANDARD
END:VTIMEZONE
BEGIN:VEVENT
UID:2485226:Event:2738069
DTSTAMP:20260423T075406Z
SUMMARY:Découvrez l'antigymnastique
DESCRIPTION:Bonjour je vous propose de venir découvrir l'Antigymnasti
 que, méthode de bien être créée par Thérèse Bertherat.  Aujourd
 'hui je propose une séance découverte gratuite.\nprochaine session :
  dimanche 11 décembre 2016 :\n à 11h00\nA l'Espace Condé 20 rue d
 e Condé (près de la Place Carnot),  Métro Ampère, Lyon 2ème\nSi 
 vous souhaitez en savoir plus je suis disponible au 0673550962\nAu pla
 isir de vous rencontrer !\nMercedes\n\nPour plus d'information, aller 
 sur https://epanews.fr/events/d-couvrez-l-antigymnastique
DTSTART;TZID=Europe/Paris:20161211T103000
DTEND;TZID=Europe/Paris:20161211T113000
CATEGORIES:69
LOCATION:Lyon
WEBSITE:http://espace-conde.fr
URL:http://espace-conde.fr
CONTACT:0673550962
ORGANIZER;CN=nina65:https://epanews.fr/profile/nina65
ATTACH;FMTTYPE="image/jpeg":
ATTENDEE;ROLE=REQ-PARTICIPANT;PARTSTAT=ACCEPTED;RSVP=TRUE;CN=nina65:ht
 tps://epanews.fr/profile/nina65
END:VEVENT
END:VCALENDAR
