BEGIN:VCALENDAR
PRODID:NingEventWidget-v1
VERSION:2.0
METHOD:PUBLISH
BEGIN:VTIMEZONE
TZID:Europe/Paris
X-LIC-LOCATION:Europe/Paris
BEGIN:DAYLIGHT
TZOFFSETFROM:+0100
TZOFFSETTO:+0200
TZNAME:CEST
DTSTART:19700329T020000
RRULE:FREQ=YEARLY;BYMONTH=3;BYDAY=-1SU
END:DAYLIGHT
BEGIN:STANDARD
TZOFFSETFROM:+0200
TZOFFSETTO:+0100
TZNAME:CET
DTSTART:19701025T030000
RRULE:FREQ=YEARLY;BYMONTH=10;BYDAY=-1SU
END:STANDARD
END:VTIMEZONE
BEGIN:VEVENT
UID:2485226:Event:2551892
DTSTAMP:20260421T173416Z
SUMMARY:Découverte Reïki - Gardanne
DESCRIPTION:Jules, Maitre Reiki Usui -- Karuna -- techniques Japonaise
 s nous invite à nous rencontrer afin de vous faire découvrir le Reï
 ki.\nLors de cette journée (de 9h à 17h) chacun pourra recevoir un s
 oin énergétique et en donner. Vous pourrez en profiter pour poser vo
 s questions. Jules se fera un plaisir d'y répondre.\nCes rencontres s
 ont ouvertes à tous : praticiens ou débutants.\nVers 12h nous nous r
 esterons (chacun apporte une boisson ou une préparation salée ou suc
 rée, fromage ou fruits....)\nENTREE : 7 euros par personne (frais par
 ticipation à la location de 2 salles).\nADRESSE : Ecomusée de la For
 êt - C.D.7 - Chemin de Roman - 13120 GARDANNE\nRéservation et rensei
 gnements au : 06 87 45 37 73\n\nPour plus d'information, aller sur htt
 ps://epanews.fr/events/d-couverte-re-ki-gardanne
DTSTART;TZID=Europe/Paris:20160123T090000
DTEND;TZID=Europe/Paris:20160123T173000
CATEGORIES:13
LOCATION:Gardanne
WEBSITE:
URL:
CONTACT:06 87 45 37 73
ORGANIZER;CN=Pertuisienne:https://epanews.fr/profile/Pertuisienne
ATTACH;FMTTYPE="image/jpeg":
ATTENDEE;ROLE=REQ-PARTICIPANT;PARTSTAT=ACCEPTED;RSVP=TRUE;CN=Pertuisie
 nne:https://epanews.fr/profile/Pertuisienne
END:VEVENT
END:VCALENDAR
