BEGIN:VCALENDAR
PRODID:NingEventWidget-v1
VERSION:2.0
METHOD:PUBLISH
BEGIN:VTIMEZONE
TZID:Europe/Paris
X-LIC-LOCATION:Europe/Paris
BEGIN:DAYLIGHT
TZOFFSETFROM:+0100
TZOFFSETTO:+0200
TZNAME:CEST
DTSTART:19700329T020000
RRULE:FREQ=YEARLY;BYMONTH=3;BYDAY=-1SU
END:DAYLIGHT
BEGIN:STANDARD
TZOFFSETFROM:+0200
TZOFFSETTO:+0100
TZNAME:CET
DTSTART:19701025T030000
RRULE:FREQ=YEARLY;BYMONTH=10;BYDAY=-1SU
END:STANDARD
END:VTIMEZONE
BEGIN:VEVENT
UID:2485226:Event:2474647
DTSTAMP:20260419T165800Z
SUMMARY:découverte produits natura brasil
DESCRIPTION:Envie de passer une bonne aprés midi entre copines et vou
 s faire plaisir à découvrir de nouveaux produits cosmétiques? L'ass
 ociation le bien être sous toutes ses formes en partenariat avec Isab
 elle Merlette conseillère chez Natura Brasil ont la joie de vous conv
 ier à une réunion sur les produits natura Brasil. Ces produits d'ori
 gine brésilienne sont de très belles qualité.Pour vous donner une i
 dée vous pouvez vous rendre sur le site: https://www.naturabrasil.fr
 /fr/a-propos-de-natura-brasil/leader-des-cosmetiques-au-bresilAprés m
 idi sans obligation d'achat\n\nPour plus d'information, aller sur http
 s://epanews.fr/events/d-couverte-produits-natura-brasil
DTSTART;TZID=Europe/Paris:20151107T150000
DTEND;TZID=Europe/Paris:20151107T190000
CATEGORIES:13
LOCATION:Maillane
WEBSITE:
URL:
CONTACT:0627355690
ORGANIZER;CN=Nathalie:https://epanews.fr/profile/Nathalie397
ATTACH;FMTTYPE="image/jpeg":http://storage.ning.com/topology/rest/1.0/
 file/get/1663481809?profile=original
ATTENDEE;ROLE=REQ-PARTICIPANT;PARTSTAT=ACCEPTED;RSVP=TRUE;CN=Nathalie:
 https://epanews.fr/profile/Nathalie397
END:VEVENT
END:VCALENDAR
