BEGIN:VCALENDAR
PRODID:NingEventWidget-v1
VERSION:2.0
METHOD:PUBLISH
BEGIN:VTIMEZONE
TZID:Europe/Paris
X-LIC-LOCATION:Europe/Paris
BEGIN:DAYLIGHT
TZOFFSETFROM:+0100
TZOFFSETTO:+0200
TZNAME:CEST
DTSTART:19700329T020000
RRULE:FREQ=YEARLY;BYMONTH=3;BYDAY=-1SU
END:DAYLIGHT
BEGIN:STANDARD
TZOFFSETFROM:+0200
TZOFFSETTO:+0100
TZNAME:CET
DTSTART:19701025T030000
RRULE:FREQ=YEARLY;BYMONTH=10;BYDAY=-1SU
END:STANDARD
END:VTIMEZONE
BEGIN:VEVENT
UID:2485226:Event:1450606
DTSTAMP:20260421T190451Z
SUMMARY:DÃ©couverte du Nia :
DESCRIPTION:Le lundi 16 septembre, de 12h30 Ã  13h30 venez dÃ©couvrir 
 LE NIA\n: SÃ©ance Ã  5 euros.\nAu Loft-Zen, 12, rue Gigodot 69004\nÂ Q
 Uâ€™EST CE QUE LE NIAÂ ? (Â«Â Now I amÂ Â»)\n\nLe Nia, crÃ©Ã© aux Etat
 s Unis dans les annÃ©es 80, est une technique basÃ©e sur les sensation
 s.\nIl sâ€™inspire Ã  la fois de la danse (jazz, contemporaine, danse 
 libre), des arts martiaux (tai-chi-chuan, taekwondo, aÃ¯kido), du yoga
  et des mÃ©thodes de prise de conscience corporelle (Alexander et Feld
 enkrais).\nBasÃ© sur 52 mouvements, le Nia offre un choix de chorÃ©gra
 phies qui sâ€™enchaÃ®nent sur des musiques colorÃ©es, entraÃ®nantes ou
  relaxantes.\nIl permet une grande libertÃ© dâ€™expression avec un cho
 ix infini de gestuelles.\nChaque participant peut, selon son envie et 
 sa forme, accentuer ou diminuer lâ€™intensitÃ© de la sÃ©ance, lâ€™ampl
 itude des gestes et des dÃ©placements.\nIl nâ€™y a ni jugement, ni com
 paraison, ni compÃ©tition, il suffit juste dâ€™Ã©couter son corps, sa 
 propre intuition, son inspiration et se laisser guider.\nLe Nia peut Ã
 ªtre pratiquÃ© par tous, quel que soit son niveau.\nBienfaitsÂ : Renfo
 rcer la joie de vivre, explorer lâ€™expression gestuelle, retrouver lâ
 €™harmonie entre le corps et lâ€™esprit, lÃ¢cher prise, libÃ©rer le st
 ress, renforcer lâ€™estime de soi, se revitaliser, augmenter la crÃ©at
 ivitÃ©, amÃ©liorer la concentration, mieux gÃ©rer les Ã©motions, affin
 er les sensations corporelles.Â \nJe vous invite Ã  venir dÃ©couvrir c
 ette joyeuse et riche discipline.\nCONTACTÂ : Marie-Pierre MOLIQUE-\nT
 Ã©l. 06 65 24 02 01 - mariepmolique@yahoo.fr\nLiensÂ : http://epanews.
 fr/profile/danseuse?xg_source=activity\nGroupe Epanews: http://epanews
 .fr/group/nia-sur-lyon\n\nPour plus d'information, aller sur https://e
 panews.fr/events/d-couverte-du-nia
DTSTART;TZID=Europe/Paris:20130916T123000
DTEND;TZID=Europe/Paris:20130916T133000
CATEGORIES:69
LOCATION:Loft-Zen,
WEBSITE:http://goo.gl/maps/rpjcy
URL:http://goo.gl/maps/rpjcy
CONTACT:06 65 24 02 01
ORGANIZER:Marie-Pierre
ATTACH;FMTTYPE="image/jpeg":http://storage.ning.com/topology/rest/1.0/
 file/get/1662888085?profile=original
ATTENDEE;ROLE=REQ-PARTICIPANT;PARTSTAT=TENTATIVE;RSVP=TRUE;CN=gem-mass
 er:https://epanews.fr/profile/gem_masser
END:VEVENT
END:VCALENDAR
