BEGIN:VCALENDAR
PRODID:NingEventWidget-v1
VERSION:2.0
METHOD:PUBLISH
BEGIN:VTIMEZONE
TZID:Europe/Paris
X-LIC-LOCATION:Europe/Paris
BEGIN:DAYLIGHT
TZOFFSETFROM:+0100
TZOFFSETTO:+0200
TZNAME:CEST
DTSTART:19700329T020000
RRULE:FREQ=YEARLY;BYMONTH=3;BYDAY=-1SU
END:DAYLIGHT
BEGIN:STANDARD
TZOFFSETFROM:+0200
TZOFFSETTO:+0100
TZNAME:CET
DTSTART:19701025T030000
RRULE:FREQ=YEARLY;BYMONTH=10;BYDAY=-1SU
END:STANDARD
END:VTIMEZONE
BEGIN:VEVENT
UID:2485226:Event:1759925
DTSTAMP:20260421T100502Z
SUMMARY:DÃ©couverte de la sophrologie
DESCRIPTION:Informations sur la sophrologie suivies par des sÃ©ances d
 Ã©couvertesÂ de groupe\nA 15h45, 16h30, 17h30, 18h30, 19h30\nTarif spÃ
 ©ciale dÃ©couverte 5 â‚¬/pers\n\nPour plus d'information, aller sur ht
 tps://epanews.fr/events/d-couverte-de-la-sophrologie-2
DTSTART;TZID=Europe/Paris:20140205T154500
DTEND;TZID=Europe/Paris:20140205T203000
CATEGORIES:25
LOCATION:Espace \"Le Contretemps\"
WEBSITE:https://maps.google.com/maps?q=3+Rue+Pierre+Rubens,+Besan%C3%A
 7on,+France&hl=fr&ie=UTF8&ll=47.224465,6.003771&spn=0.031302,0.076818&
 sll=37.0625,-95.677068&sspn=36.778911,20.566406&oq=3+rue+pierre+rubens
 +&hnear=3+Rue+Pierre+Rubens,+25000+Besan%C3%A7on,+Doubs,+France&t=m&z=
 14&iwloc=A
URL:https://maps.google.com/maps?q=3+Rue+Pierre+Rubens,+Besan%C3%A7on,
 +France&hl=fr&ie=UTF8&ll=47.224465,6.003771&spn=0.031302,0.076818&sll=
 37.0625,-95.677068&sspn=36.778911,20.566406&oq=3+rue+pierre+rubens+&hn
 ear=3+Rue+Pierre+Rubens,+25000+Besan%C3%A7on,+Doubs,+France&t=m&z=14&i
 wloc=A
CONTACT:06 79 99 90 48
ORGANIZER:
ATTACH;FMTTYPE="image/jpeg":http://storage.ning.com/topology/rest/1.0/
 file/get/1663044978?profile=original
ATTENDEE;ROLE=REQ-PARTICIPANT;PARTSTAT=ACCEPTED;RSVP=TRUE;CN="ChristÃ¨
 le BRENIAUX":https://epanews.fr/profile/SPLSophrologie
END:VEVENT
END:VCALENDAR
