BEGIN:VCALENDAR
PRODID:NingEventWidget-v1
VERSION:2.0
METHOD:PUBLISH
BEGIN:VTIMEZONE
TZID:Europe/Paris
X-LIC-LOCATION:Europe/Paris
BEGIN:DAYLIGHT
TZOFFSETFROM:+0100
TZOFFSETTO:+0200
TZNAME:CEST
DTSTART:19700329T020000
RRULE:FREQ=YEARLY;BYMONTH=3;BYDAY=-1SU
END:DAYLIGHT
BEGIN:STANDARD
TZOFFSETFROM:+0200
TZOFFSETTO:+0100
TZNAME:CET
DTSTART:19701025T030000
RRULE:FREQ=YEARLY;BYMONTH=10;BYDAY=-1SU
END:STANDARD
END:VTIMEZONE
BEGIN:VEVENT
UID:2485226:Event:571815
DTSTAMP:20260423T104515Z
SUMMARY:Découverte de la Biodanza
DESCRIPTION:Je propose une séance de découverte de la Biodanza ouver
 te à tous; Créée par le chilien Rolando Toro la Biodanza ne demande
  aucune capacité à danser. Elle favorise la joie de vivre, la rencon
 tre authentique avec les autres, la connexion à soi et au monde. Les 
 exercices proposés visent à inviter les participants à intégrer da
 ns leur vie de nouveaux chemins pour être au monde...\n \n\nPour plu
 s d'information, aller sur https://epanews.fr/events/d-couverte-de-la-
 biodanza
DTSTART;TZID=Europe/Paris:20111031T140000
DTEND;TZID=Europe/Paris:20111031T160000
CATEGORIES:84
LOCATION:avignon
WEBSITE:
URL:
CONTACT:06.75.13.66.46
ORGANIZER;CN="Cécile Marzio":https://epanews.fr/profile/CecileMarzio
ATTACH;FMTTYPE="image/jpeg":http://storage.ning.com/topology/rest/1.0/
 file/get/1662479894?profile=original
ATTENDEE;ROLE=REQ-PARTICIPANT;PARTSTAT=ACCEPTED;RSVP=TRUE;CN="Cécile 
 Marzio":https://epanews.fr/profile/CecileMarzio
END:VEVENT
END:VCALENDAR
