BEGIN:VCALENDAR
PRODID:NingEventWidget-v1
VERSION:2.0
METHOD:PUBLISH
BEGIN:VTIMEZONE
TZID:Europe/Paris
X-LIC-LOCATION:Europe/Paris
BEGIN:DAYLIGHT
TZOFFSETFROM:+0100
TZOFFSETTO:+0200
TZNAME:CEST
DTSTART:19700329T020000
RRULE:FREQ=YEARLY;BYMONTH=3;BYDAY=-1SU
END:DAYLIGHT
BEGIN:STANDARD
TZOFFSETFROM:+0200
TZOFFSETTO:+0100
TZNAME:CET
DTSTART:19701025T030000
RRULE:FREQ=YEARLY;BYMONTH=10;BYDAY=-1SU
END:STANDARD
END:VTIMEZONE
BEGIN:VEVENT
UID:2485226:Event:1045357
DTSTAMP:20260422T151219Z
SUMMARY:Découverte - échange énergétique REIKI
DESCRIPTION:La pratique énergétique du Reiki, le découvrir, le rece
 voir, ou le donner pour ceux qui souhaitent participer.\nLe mot Reiki 
 est composé de deux mots Rei et Ki.  Rei est l’Energie Universelle 
 de Vie dans sa dimension macrocosme, celle qui nous entoure partout, n
 ous constitue ainsi que toute chose : le Grand Tout… les atomes…  
 Et Ki est cette même Energie Universelle de Vie mais dans sa dimensio
 n microcosme, cette Energie Vitale en chacun de nous qui vivons -la Vi
 e en soi- et qui englobe tous les aspects à quoi s'identifie l'Etre H
 umain : physique, émotionnel, mental, Esprit…\nInscription sur : ht
 tp://www.lasourcedenergie.fr/contact/formulaire-d-inscription/  Rensei
 gnements sur : http://www.lasourcedenergie.fr/contact/demande-de-rense
 ignements/\n\nPour plus d'information, aller sur https://epanews.fr/ev
 ents/d-couverte-change-nerg-tique-reiki
DTSTART;TZID=Europe/Paris:20121212T143000
DTEND;TZID=Europe/Paris:20121212T180000
CATEGORIES:30, 34, 84, 13
LOCATION:Centre : \"GAÏA - La source d'énergie .fr\"
WEBSITE:http://www.lasourcedenergie.fr/
URL:http://www.lasourcedenergie.fr/
CONTACT:06.29.50.42.53
ORGANIZER:Rose-Marie & Patrick
ATTACH;FMTTYPE="image/jpeg":http://storage.ning.com/topology/rest/1.0/
 file/get/1662709008?profile=original
ATTENDEE;ROLE=REQ-PARTICIPANT;PARTSTAT=ACCEPTED;RSVP=TRUE;CN=Patrick:h
 ttps://epanews.fr/profile/lasourcedenergie
END:VEVENT
END:VCALENDAR
