BEGIN:VCALENDAR
PRODID:NingEventWidget-v1
VERSION:2.0
METHOD:PUBLISH
BEGIN:VTIMEZONE
TZID:Europe/Paris
X-LIC-LOCATION:Europe/Paris
BEGIN:DAYLIGHT
TZOFFSETFROM:+0100
TZOFFSETTO:+0200
TZNAME:CEST
DTSTART:19700329T020000
RRULE:FREQ=YEARLY;BYMONTH=3;BYDAY=-1SU
END:DAYLIGHT
BEGIN:STANDARD
TZOFFSETFROM:+0200
TZOFFSETTO:+0100
TZNAME:CET
DTSTART:19701025T030000
RRULE:FREQ=YEARLY;BYMONTH=10;BYDAY=-1SU
END:STANDARD
END:VTIMEZONE
BEGIN:VEVENT
UID:2485226:Event:1328954
DTSTAMP:20260423T005718Z
SUMMARY:Cyle de 4 ateliers de qi gong  en juin 2013
DESCRIPTION: \nL’association « le souffle du menhir » propose u
 n cycle de 4 ateliers de 3h de TAI JI QI GONG  les samedis 8-15-22 et
  29 juin de 9h 15 à 12h 15, salle parquet de l’Espace Groëz-Ven à
  Ploemel.\n  Le TAIJI - QI GONG est une synthèse de ces deux discipl
 ines, puisqu’il s’inspire à la fois des mouvements fluides, ample
 s et harmonieux du Taijiquan, ainsi que des principes respiratoires, d
 e concentrations et visualisations du Qi‐Gong.  \nLe Tai Ji Qi Gong
   est un exercice énergétique, dont la pratique est hautement recom
 mandée pour préserver sa santé tout en améliorant son bien‐être
  à la fois physique, mental et spirituel, voire à l’améliorer. C
 est une technique douce, lente,  simple et facile à pratiquer et 
  mémoriser pour tous. Merci de confirmer votre présence si possible
  avant le stage ou l’atelier. Même si vous ne pouvez pas  assister
  à tout le stage, venez découvrir le qi gong et ses bienfaits pendan
 t 1 séance.  Quelques ateliers de suivi  gratuits seront  assurés
  au parc de Mané-bogad pendant l’été.\n \nTarif du stage : Séa
 nce d’essai gratuite, Le cycle des 4 ateliers : 25 euros ; 1 ateli
 er de 3 h: 8 euros\nEmail : lesouffledumenhir@gmail.com     Site
 : https://sites.google.com/site/lsouffledumenhir/\n \n\nPour plus d'
 information, aller sur https://epanews.fr/events/cyle-de-4-ateliers-de
 -qi-gong-en-juin-2013
DTSTART;TZID=Europe/Paris:20130608T091500
DTEND;TZID=Europe/Paris:20130608T121500
CATEGORIES:56
LOCATION:salle parquet de l’Espace Groëz-Ven à Ploemel
WEBSITE:https://sites.google.com/site/lesouffledumenhir/
URL:https://sites.google.com/site/lesouffledumenhir/
CONTACT:
ORGANIZER:bracchi martine - association le souffle du menhir
ATTACH;FMTTYPE="image/jpeg":
ATTENDEE;ROLE=REQ-PARTICIPANT;PARTSTAT=ACCEPTED;RSVP=TRUE;CN="bracchi 
 martine":https://epanews.fr/profile/bracchimartine
END:VEVENT
END:VCALENDAR
