BEGIN:VCALENDAR
PRODID:NingEventWidget-v1
VERSION:2.0
METHOD:PUBLISH
BEGIN:VTIMEZONE
TZID:Europe/Paris
X-LIC-LOCATION:Europe/Paris
BEGIN:DAYLIGHT
TZOFFSETFROM:+0100
TZOFFSETTO:+0200
TZNAME:CEST
DTSTART:19700329T020000
RRULE:FREQ=YEARLY;BYMONTH=3;BYDAY=-1SU
END:DAYLIGHT
BEGIN:STANDARD
TZOFFSETFROM:+0200
TZOFFSETTO:+0100
TZNAME:CET
DTSTART:19701025T030000
RRULE:FREQ=YEARLY;BYMONTH=10;BYDAY=-1SU
END:STANDARD
END:VTIMEZONE
BEGIN:VEVENT
UID:2485226:Event:698507
DTSTAMP:20260421T224516Z
SUMMARY:Cycles d'apprentissage en Massage Bien Être
DESCRIPTION:Formation avec possibilité de recevoir une certification.
 \nAteliers de 3 heures, en petit groupe de 4 à 8 personnes offrant la
  possibilité de donner et recevoir à tour de rôle des massages bien
  être pour apprendre les bases nécessaires pour une pratique familia
 le ou comme complément d'une autre activité (soignant, sportif, esth
 étique...). Communication avec le toucher, fluidité, respiration, ry
 thme, mouvements et temps d paroles.\nUn merveilleux moyen de faire un
 e pause, de se rencontrer à travers les autres et d'épanouir son pot
 entiel !\n\nPour plus d'information, aller sur https://epanews.fr/even
 ts/cycles-d-apprentissage-en-massage-bien-tre
DTSTART;TZID=Europe/Paris:20120317T100000
DTEND;TZID=Europe/Paris:20120317T130000
CATEGORIES:13
LOCATION:Marseille
WEBSITE:http://maps.google.com/maps?q=26+Avenue+Mar%C3%A9chal+Foch,+Ma
 rseille,+France&hl=fr&ie=UTF8&sll=43.296482,5.36978&sspn=0.406294,0.89
 1953&oq=26,+avenue+Mar%C3%A9&hnear=26+Avenue+Mar%C3%A9chal+Foch,+13004
 +Marseille,+Bouches-Du-Rh%C3%B4ne,+Provence-Alpes-C%C3%B4te+d%27Azur,+
 France&t=m&z=17
URL:http://maps.google.com/maps?q=26+Avenue+Mar%C3%A9chal+Foch,+Marsei
 lle,+France&hl=fr&ie=UTF8&sll=43.296482,5.36978&sspn=0.406294,0.891953
 &oq=26,+avenue+Mar%C3%A9&hnear=26+Avenue+Mar%C3%A9chal+Foch,+13004+Mar
 seille,+Bouches-Du-Rh%C3%B4ne,+Provence-Alpes-C%C3%B4te+d%27Azur,+Fran
 ce&t=m&z=17
CONTACT:06 16 72 21 85
ORGANIZER;CN=Lorène:https://epanews.fr/profile/Lorene
ATTACH;FMTTYPE="image/jpeg":http://storage.ning.com/topology/rest/1.0/
 file/get/1662558792?profile=original
ATTENDEE;ROLE=REQ-PARTICIPANT;PARTSTAT=ACCEPTED;RSVP=TRUE;CN=Lorène:h
 ttps://epanews.fr/profile/Lorene
END:VEVENT
END:VCALENDAR
