BEGIN:VCALENDAR
PRODID:NingEventWidget-v1
VERSION:2.0
METHOD:PUBLISH
BEGIN:VTIMEZONE
TZID:Europe/Paris
X-LIC-LOCATION:Europe/Paris
BEGIN:DAYLIGHT
TZOFFSETFROM:+0100
TZOFFSETTO:+0200
TZNAME:CEST
DTSTART:19700329T020000
RRULE:FREQ=YEARLY;BYMONTH=3;BYDAY=-1SU
END:DAYLIGHT
BEGIN:STANDARD
TZOFFSETFROM:+0200
TZOFFSETTO:+0100
TZNAME:CET
DTSTART:19701025T030000
RRULE:FREQ=YEARLY;BYMONTH=10;BYDAY=-1SU
END:STANDARD
END:VTIMEZONE
BEGIN:VEVENT
UID:2485226:Event:2170101
DTSTAMP:20260425T140651Z
SUMMARY:Cycle M.B.S.R. Mindfulness Méditation laïque
DESCRIPTION:Rentrée en Pleine Conscience à Lyon 1er avec le Cycle MB
 SR Mindfulness selon le protocole de J.Kabat-Zinn : 8 sessions les jeu
 dis du 29 janv au 26 mars (sauf vacances scolaires) de 19H à 21H30 + 
 un dimanche d'intégration le 1er mars de 10H à 16H. Objectifs : réd
 uire le stress - apaiser les rumination mentales - prendre du recul et
  de la hauteur - se ré-équilibrer aux plans émotionnel, relationnel
  et énergétique.    Evelyne Lorato RH, Coach professionnelle, Sop
 hrologue et instructrice MBSR Contact: 0664099441 evelyne-lorato.rh@ev
 elyne-lorato.fr\n\n\nPour plus d'information, aller sur https://epanew
 s.fr/events/cycle-m-ditation-la-que-mindfulness-mbsr-lyon
DTSTART;TZID=Europe/Paris:20150129T190000
DTEND;TZID=Europe/Paris:20150129T213000
CATEGORIES:69
LOCATION:Lyon 1er
WEBSITE:http://evelynelorato.fr/mbsr-meditation-pleine-conscience/
URL:http://evelynelorato.fr/mbsr-meditation-pleine-conscience/
CONTACT:0664099441
ORGANIZER;CN="Association DHYAN VIVEK":https://epanews.fr/profile/Dhya
 ne
ATTACH;FMTTYPE="image/jpeg":http://storage.ning.com/topology/rest/1.0/
 file/get/1663296102?profile=original
ATTENDEE;ROLE=REQ-PARTICIPANT;PARTSTAT=ACCEPTED;RSVP=TRUE;CN="Associat
 ion DHYAN VIVEK":https://epanews.fr/profile/Dhyane
END:VEVENT
END:VCALENDAR
