BEGIN:VCALENDAR
PRODID:NingEventWidget-v1
VERSION:2.0
METHOD:PUBLISH
BEGIN:VTIMEZONE
TZID:Europe/Paris
X-LIC-LOCATION:Europe/Paris
BEGIN:DAYLIGHT
TZOFFSETFROM:+0100
TZOFFSETTO:+0200
TZNAME:CEST
DTSTART:19700329T020000
RRULE:FREQ=YEARLY;BYMONTH=3;BYDAY=-1SU
END:DAYLIGHT
BEGIN:STANDARD
TZOFFSETFROM:+0200
TZOFFSETTO:+0100
TZNAME:CET
DTSTART:19701025T030000
RRULE:FREQ=YEARLY;BYMONTH=10;BYDAY=-1SU
END:STANDARD
END:VTIMEZONE
BEGIN:VEVENT
UID:2485226:Event:2113538
DTSTAMP:20260425T215217Z
SUMMARY:Cycle \"Libérez votre puissance naturelle\" à Nantes
DESCRIPTION:RETROUVEZ le sens de votre vie, votre enthousiasme et votr
 e capacité d'action. \nREDEVENEZ disponible, rayonnant, efficace. \
 nCREEZ votre projet, dans une action alignée avec votre mission de v
 ie, avec des relations fructueuses à tous niveaux.\nCe séminaire vou
 s accompagnera à explorer vos rêves, vos résistances et vos ressour
 ces, pour les mettre en oeuvre dans un projet plein de sens et qui vou
 s ressemble. Vous développerez votre paix intérieure, votre énerg
 ie, votre présence à vous-même, pour entrer dans le jeu de la vie.
 .. Allez vers la réussite et aidez les autres à le faire !  \nUn ap
 rès-midi toutes les 4 à 6 semaines (un jour complet en Novembre)\nLe
  groupe est ouvert : vous démarrez et venez au séances que vous souh
 aitez.  Cela vous permet de :\n• Approfondir à votre rythme la post
 ure d'Abondance\n• Etre accompagné par des coachs professionnels\n
  Prendre le temps de l'intégration pour un changement durable\n• 
 Bénéficier de l ́intelligence collective du groupe pour générer d
 es idées\n• Profiter de l ́appui du groupe pour avoir des retours 
 sur vos actions,\n• Garder votre motivation et resté centré.\nLib
 rez votre puissance naturelle !\nMail : assistante2jcbenas@gmail.com\
 n\nPour plus d'information, aller sur https://epanews.fr/events/cycle-
 lib-rez-votre-puissance-naturelle-nantes
DTSTART;TZID=Europe/Paris:20141028T090000
DTEND;TZID=Europe/Paris:20141028T180000
CATEGORIES:44
LOCATION:La Foresterie
WEBSITE:http://www.abondances.info/Liste-des-stages/35
URL:http://www.abondances.info/Liste-des-stages/35
CONTACT:06 18 42 14 15
ORGANIZER;CN="Jean Christophe Benas":https://epanews.fr/profile/Flyone
 arth
ATTACH;FMTTYPE="image/jpeg":http://storage.ning.com/topology/rest/1.0/
 file/get/1663226191?profile=original
ATTENDEE;ROLE=REQ-PARTICIPANT;PARTSTAT=ACCEPTED;RSVP=TRUE;CN="Jean Chr
 istophe Benas":https://epanews.fr/profile/Flyonearth
END:VEVENT
END:VCALENDAR
