BEGIN:VCALENDAR
PRODID:NingEventWidget-v1
VERSION:2.0
METHOD:PUBLISH
BEGIN:VTIMEZONE
TZID:Europe/Paris
X-LIC-LOCATION:Europe/Paris
BEGIN:DAYLIGHT
TZOFFSETFROM:+0100
TZOFFSETTO:+0200
TZNAME:CEST
DTSTART:19700329T020000
RRULE:FREQ=YEARLY;BYMONTH=3;BYDAY=-1SU
END:DAYLIGHT
BEGIN:STANDARD
TZOFFSETFROM:+0200
TZOFFSETTO:+0100
TZNAME:CET
DTSTART:19701025T030000
RRULE:FREQ=YEARLY;BYMONTH=10;BYDAY=-1SU
END:STANDARD
END:VTIMEZONE
BEGIN:VEVENT
UID:2485226:Event:2489726
DTSTAMP:20260422T081659Z
SUMMARY:Cycle Intensif de Méditation Pleine Conscience : avril 10h-13
 h
DESCRIPTION:Comment découvrir et/ou maintenir une pratique méditativ
 e  de Pleine Conscience, de manière soutenue et intensive . Cycle
  intensif de 3 heures sur 5 jours du 25 au 29 AVRIL de 10h à 13h dans
  le 75002.   Les personnes qui viennent découvrir trouveront une intr
 oduction des bases de la pratique de la Méditation Pleine Conscience.
   Les personnes déjà pratiquantes, trouveront là une occasion d’u
 n approfondissement en groupe, sur plusieurs jours, en continu.   En v
 ous engageant sur la totalité du cycle, vous pourrez vivre ce temps e
 n continu de méditation comme une initiation à une mini-retraite, un
 e manière de rester connecter de jours en jours avec la pratique et l
 ’état d’esprit : l’occasion d’acquérir ou de revisiter les 
 «outils» pour faire que l’expérience s’incarne concrètement da
 ns les activités de la vie quotidienne.\nTarifs dégressifs selon for
 faits de 15€ à 11€ de l'heure.\nInscription sur la totalité du c
 ycle ou ponctuelle sur le nombre de matinée possible selon votre disp
 onibilité.\nInscription par mail SVP. christianebeauge@gmail.com\nSe 
 renseigner auprès de Christiane Beaugé - Enseignante Méditation Ple
 ine Conscience MBSR - Sophrologue Relaxologue.\n\nPour plus d'informat
 ion, aller sur https://epanews.fr/events/cycle-intensif-de-m-ditation-
 pleine-conscience-avril-10h-13h
DTSTART;TZID=Europe/Paris:20160425T100000
DTEND;TZID=Europe/Paris:20160429T130000
CATEGORIES:75
LOCATION:Paris 75002
WEBSITE:http://www.pleineconscience75.com
URL:http://www.pleineconscience75.com
CONTACT:06 70 49 32 38 - 01 44 61 74 59
ORGANIZER;CN="Christiane Beaugé":https://epanews.fr/profile/Christian
 eBeauge
ATTACH;FMTTYPE="image/jpeg":http://storage.ning.com/topology/rest/1.0/
 file/get/1663002438?profile=original
ATTENDEE;ROLE=REQ-PARTICIPANT;PARTSTAT=ACCEPTED;RSVP=TRUE;CN="Christia
 ne Beaugé":https://epanews.fr/profile/ChristianeBeauge
END:VEVENT
END:VCALENDAR
