BEGIN:VCALENDAR
PRODID:NingEventWidget-v1
VERSION:2.0
METHOD:PUBLISH
BEGIN:VTIMEZONE
TZID:Europe/Paris
X-LIC-LOCATION:Europe/Paris
BEGIN:DAYLIGHT
TZOFFSETFROM:+0100
TZOFFSETTO:+0200
TZNAME:CEST
DTSTART:19700329T020000
RRULE:FREQ=YEARLY;BYMONTH=3;BYDAY=-1SU
END:DAYLIGHT
BEGIN:STANDARD
TZOFFSETFROM:+0200
TZOFFSETTO:+0100
TZNAME:CET
DTSTART:19701025T030000
RRULE:FREQ=YEARLY;BYMONTH=10;BYDAY=-1SU
END:STANDARD
END:VTIMEZONE
BEGIN:VEVENT
UID:2485226:Event:2933523
DTSTAMP:20260421T171054Z
SUMMARY:cycle de conferences sur le bien etre
DESCRIPTION:L'association L'arc en ciel du partage organise un cycle d
 e conférences sur le bien être au Palais des Confrès à Gruissan. L
 e jeudi 22 Février 2018\nEntrée 3€\n14h00 Conférence L'Energétiq
 ue par Colette Salvanez, thérapeute harmonisante\nEst ce simplement p
 our certaines personnes? Où trouve-t-on l'énergie? A quoi ça sert? 
 Le magnétisme, le reiki, les massages énergétiques, les barreurs de
  feu, etc ... Pourquoi nous devrions tous nous servir des énergies, a
 fin d'améliorer notre quotidien, de reprendre contact avec ce qui exi
 ste en nous . Toutes ces questions que vous vous posez ... j'essaierai
  de vous y répondre, de façon simple ... car en fait chacun de nous 
 peut améliorer sa vie au quotidien en se servant de sa propre énergi
 e.\n\n15h00 Conférence La Pent'analogie, Votre date de naissance rév
 èle la mission sur terre de votre Ame par Brigitte Boeyens, thérapeu
 te\nLa Pent'anologie est une méthode suisse d'analyse approfondie de 
 la date de naissance. Avant de venir sur terre, l'âme choisit les exp
 ériences qu'elle veut vivre. Avoir connaissance de ce programme nous 
 aide à comprendre et surmonter les étapes difficiles de notre vie. L
 a Pent'analogie permet de comprendre : - notre fonctionnement et celui
  de nos proches, de nos enfants - la cause du mal-être, de comporteme
 nts obsessionnels et de problèmes physiques. - les schémas répétit
 ifs qui empêchent d'avancer dans la vie. La Pent'anologie révèle le
 s tensions, les saboteurs, les blocages, bref tous les défis de notre
  vie. Avec la Pent'analogie vous disposez d'un manuel indispensable po
 ur entamer ou approfondir un travail sur soi ou d'accompagnement si vo
 us êtes thérapeute ou praticien du bien-être.\n\n16h00 Conférence 
 Le détachement de traumatismes par Jacqueline Dubost, Neurothérapeut
 e\nQu'est-ce que le détachement de traumatismes? Cette technique issu
 e de la PNL, de l'EMDR, de l'hypnose Ericksonienne est une technique p
 uissante, rapide et efficace qui déprogramme définitivement les émo
 tions négatives présentes ici et maintenant et suscitées par des si
 tuations, des évènements vécus par le passé ou anticipés dans le 
 futur. Deuils insurmontables - Tristesse - Colères - Peurs - Phobies 
 - Tocs - Manque de confiance en soi - Echecs - Répétitions - Dépres
 sions - angoisses - Troubles du sommeil - Addictions et bien d'autres 
 choses encore Tous ces maux qui font des ravages dans notre vie\n\n17h
 00 Conférence Comment tenir ses bonnes résolutions du Nouvel An par 
 Adeline Salvador, Coach en réalisation de soi\nAu 1er Janvier, nous f
 aisons des voeux : Perdre du poids, faire du sport, manger sain, chang
 er de travail, gagner plus d'argent, déménager, rencontrer l'Âme So
 eur ... Et pourtant, après juste quelques semaines nous les oublions 
 .... jusqu'à l'année prochaine ! Je vous propose de vous donner des 
 CLEFS pour REALISER VOS SOUHAITS sans attendre!.\n\nRéservation 04.30
 .16.64.93 ou larcencieldupartage@gmail.com\n\nPour plus d'information,
  aller sur https://epanews.fr/events/cycle-de-conferences-sur-le-bien-
 etre
DTSTART;TZID=Europe/Paris:20180222T140000
DTEND;TZID=Europe/Paris:20180222T180000
CATEGORIES:11
LOCATION:gruissan
WEBSITE:http://www.larcencieldupartage.org
URL:http://www.larcencieldupartage.org
CONTACT:0430166493
ORGANIZER;CN="L'arc en ciel du partage":https://epanews.fr/profile/Lar
 cencieldupartage
ATTACH;FMTTYPE="image/jpeg":http://storage.ning.com/topology/rest/1.0/
 file/get/1663721861?profile=original
ATTENDEE;ROLE=REQ-PARTICIPANT;PARTSTAT=ACCEPTED;RSVP=TRUE;CN="L'arc en
  ciel du partage":https://epanews.fr/profile/Larcencieldupartage
END:VEVENT
END:VCALENDAR
