BEGIN:VCALENDAR
PRODID:NingEventWidget-v1
VERSION:2.0
METHOD:PUBLISH
BEGIN:VTIMEZONE
TZID:Europe/Paris
X-LIC-LOCATION:Europe/Paris
BEGIN:DAYLIGHT
TZOFFSETFROM:+0100
TZOFFSETTO:+0200
TZNAME:CEST
DTSTART:19700329T020000
RRULE:FREQ=YEARLY;BYMONTH=3;BYDAY=-1SU
END:DAYLIGHT
BEGIN:STANDARD
TZOFFSETFROM:+0200
TZOFFSETTO:+0100
TZNAME:CET
DTSTART:19701025T030000
RRULE:FREQ=YEARLY;BYMONTH=10;BYDAY=-1SU
END:STANDARD
END:VTIMEZONE
BEGIN:VEVENT
UID:2485226:Event:2785716
DTSTAMP:20260422T134655Z
SUMMARY:Cycle de conférences sur le thème : Les facettes incompréhe
 nsibles de l’être humain
DESCRIPTION:À chaque conférence, un aspect du thème sera abordé. V
 ous pouvez participer à une ou plusieurs conférences.\nDates : les m
 ardis 7 février, 21 février, 7 mars, 21 mars, 4 avril de 18h30 à 20
 h00\nLieu : Centre du Mont 13006 Marseille\nTarifs : 10 € la confér
 ence, 8 € avec le code MD17.\nInformations : 06 11 89 20 34\nLes mé
 canismes de défense servent à protéger la conscience d’une émoti
 on douloureuse ou inacceptable. Ils ont pour objectif la réduction de
  tensions psychiques afin de protéger la cohésion de l’appareil ps
 ychique.\nLes mécanismes de défense sont inconscients et se déclenc
 hent de façon automatique et donc involontaire.\nÀ quel moment de la
  vie apparaissent-ils ? Comment fonctionnent-ils ?\nVous aimeriez en s
 avoir davantage sur le sujet ?\nSous la forme d'une présentation péd
 agogique ponctuée d'échanges, le cycle de conférences rend la théo
 rie psychanalytique accessible.\nChaque conférence est suivie d'un te
 mps de « questions - réponses ».\nCe cycle est animé par Jean ROCH
 ETTE psychanalyste, psycho-somato-analyste, co-fondateur de la Méthod
 e Corps - Émotion - Parole®.\nVous connaissez des personnes suscepti
 bles d'être intéressées par ces conférences, n'hésitez pas à leu
 r transmettre ces informations ou à les inviter à vous accompagner.\
 n\nPour plus d'information, aller sur https://epanews.fr/events/cycle-
 de-conf-rences-sur-le-th-me-les-facettes-incompr-hensibles
DTSTART;TZID=Europe/Paris:20170207T183000
DTEND;TZID=Europe/Paris:20170207T200000
CATEGORIES:13
LOCATION:Centre du Mont
WEBSITE:
URL:
CONTACT:06 11 89 20 34
ORGANIZER:Les 13 Portes
ATTACH;FMTTYPE="image/jpeg":http://storage.ning.com/topology/rest/1.0/
 file/get/1663642644?profile=original
ATTENDEE;ROLE=REQ-PARTICIPANT;PARTSTAT=ACCEPTED;RSVP=TRUE;CN=Carol:htt
 ps://epanews.fr/profile/Carol
END:VEVENT
END:VCALENDAR
