BEGIN:VCALENDAR
PRODID:NingEventWidget-v1
VERSION:2.0
METHOD:PUBLISH
BEGIN:VTIMEZONE
TZID:Europe/Paris
X-LIC-LOCATION:Europe/Paris
BEGIN:DAYLIGHT
TZOFFSETFROM:+0100
TZOFFSETTO:+0200
TZNAME:CEST
DTSTART:19700329T020000
RRULE:FREQ=YEARLY;BYMONTH=3;BYDAY=-1SU
END:DAYLIGHT
BEGIN:STANDARD
TZOFFSETFROM:+0200
TZOFFSETTO:+0100
TZNAME:CET
DTSTART:19701025T030000
RRULE:FREQ=YEARLY;BYMONTH=10;BYDAY=-1SU
END:STANDARD
END:VTIMEZONE
BEGIN:VEVENT
UID:2485226:Event:2657283
DTSTAMP:20260421T084929Z
SUMMARY:Cycle de 9 ateliers de dessin centrÃ© (mandala)
DESCRIPTION:Cycle de 9 Ateliers Dessin centrÃ© (mandala) par Brigitte 
 Le Port -Â \nA partir du 1er octobre 2016 - 1 samedi par mois de 15h00
  Ã  17h30\nA propos du dessin centrÃ© :Â \nLe \"dessin centrÃ©\" ou ma
 ndala est un formidable outil permettant :Â \n- de dÃ©couvrir ou stimu
 ler sa crÃ©ativitÃ©,Â \n- de rÃ©Ã©quilibrer les hÃ©misphÃ¨res cÃ©rÃ©br
 aux,Â \n- d'atteindre un Ã©tat proche de la mÃ©ditation,Â \n- de se dÃ
 ©tendre, se recentrer, s'intÃ©rioriserÂ \n- de rassembler ses forces d
 e vies,Â \nCette pratique amÃ¨ne apaisement, rÃ©-Ã©quilibrage (Ã©motio
 nnel, physique, ...) et une meilleure connaissance de soi-mÃªme.Â \nLe
  mandala s'apparente Ã  une cellule (cercle et point), c'est Ã  dire Ã
   la structure mÃªme de la vie.Â \nÂ Pour toute personne :Â \n- souhai
 tant se dÃ©tendre et se faire plaisir,Â \n- dans une dÃ©marche de dÃ©v
 eloppement personnelÂ \nÂ 1 samedi par mois de 15h00 Ã  17h30Â \nEngag
 ement sur l'annÃ©e afin de ressentir tous les bienfaits !\nParticipati
 on Ã  l'annÃ©e (matÃ©riel fourni) Â \nadhÃ©rent 270â‚¬ (soit 30â‚¬ l'a
 telier)Â \nnon adhÃ©rent 315â‚¬ (soit 35â‚¬ l'atelier)Â \nÂ Payable pa
 r trimestreÂ \nInscription annuelle Ã  l'issue de la 1Ã¨re sÃ©ance du 
 1er octobre 16\nInscription NadÃ¨ge 06.23.01.35.96 ou larcencieldupart
 age@sfr.fr\nLieu :\nl'arc en ciel du partage\n1 rue garanciÃ¨re\n11100
  narbonne\nwww.larcencieldupartage.org\n\nPour plus d'information, all
 er sur https://epanews.fr/events/cycle-de-9-ateliers-de-dessin-centr-m
 andala
DTSTART;TZID=Europe/Paris:20161001T150000
DTEND;TZID=Europe/Paris:20161001T173000
CATEGORIES:11
LOCATION:narbonne
WEBSITE:http://www.larcencieldupartage.org
URL:http://www.larcencieldupartage.org
CONTACT:0623013596
ORGANIZER;CN="L'arc en ciel du partage":https://epanews.fr/profile/Lar
 cencieldupartage
ATTACH;FMTTYPE="image/jpeg":http://storage.ning.com/topology/rest/1.0/
 file/get/1663572203?profile=original
ATTENDEE;ROLE=REQ-PARTICIPANT;PARTSTAT=ACCEPTED;RSVP=TRUE;CN="L'arc en
  ciel du partage":https://epanews.fr/profile/Larcencieldupartage
END:VEVENT
END:VCALENDAR
