BEGIN:VCALENDAR
PRODID:NingEventWidget-v1
VERSION:2.0
METHOD:PUBLISH
BEGIN:VTIMEZONE
TZID:Europe/Paris
X-LIC-LOCATION:Europe/Paris
BEGIN:DAYLIGHT
TZOFFSETFROM:+0100
TZOFFSETTO:+0200
TZNAME:CEST
DTSTART:19700329T020000
RRULE:FREQ=YEARLY;BYMONTH=3;BYDAY=-1SU
END:DAYLIGHT
BEGIN:STANDARD
TZOFFSETFROM:+0200
TZOFFSETTO:+0100
TZNAME:CET
DTSTART:19701025T030000
RRULE:FREQ=YEARLY;BYMONTH=10;BYDAY=-1SU
END:STANDARD
END:VTIMEZONE
BEGIN:VEVENT
UID:2485226:Event:2678919
DTSTAMP:20260422T134054Z
SUMMARY:Cycle d' Atelier \" Esprit Libre \" (1er exposÃ©)
DESCRIPTION:Cycle de rencontres interactives, sous l'Ã©clairage d'un e
 nseignement universel gnostique.  1Ã¨re rencontre d'un cycle de 8 atel
 iers: Â« Les questions qui se posent Â»  Il s'agit de rencontres sous 
 la forme d'un cycle de 8 ateliers proposant un approfondissement conce
 rnant la spiritualitÃ© et la conscience. Lors de ces rencontres intera
 ctives, nous pourrons partager et tÃ©moigner Ã  partir des questions b
 rÃ»lantes qui se posent Ã  nous lorsque nous recherchons le sens profo
 nd de la vie. Parce que nous nous questionnons, Parce que nous vivons,
  Parce que nous cheminons, et le monde avec nous, Nous cherchons des r
 Ã©ponses, une voie, une comprÃ©hension Ã  la hauteur de notre exigence
  et de notre quÃªte intÃ©rieure.  Adresse: HÃ´tel le Clos de Notre-Dam
 e 22, rue des hirondelles 75006 Paris Metro: \"Saint- Michel\" ligne 4
 -RER B et C Horaires: 19h30-21h30Paf:Â PossibilitÃ© d'assister aux 3 p
 remiers ateliers gratuitement sans engagement.30 â‚¬ pour l'ensemble d
 es 8 ateliers ou 10â‚¬ ( Ã©tudiants/ demandeurs d'emploi)Contact:Â 066
 1320412 Prochaines dates: mardi 13 septembre ( 1er atelier), mardi 20 
 septembre ( 2Ã¨me atelier), mardi 27 septembre ( 3Ã¨me atelier)...Â   
 Atelier 1 : Â« Les questions qui se posent Â»   La vie est bouleversan
 te, elle nous pose d'immenses et incessantes questions: Qu'est-ce qu'Ã
 ªtre libre? Individuellement et collectivement, Que faire de mes limit
 es? Comment changer? Et dans quel but? Comment chercher les rÃ©ponses 
 ?  Cette soirÃ©e sera l'occasion de faire le point sur ces \"questions
  qui se posent\" Ã  nous, et de poser quelques premiers jalons que nou
 s approfondirons au cours des diffÃ©rentes soirÃ©es de ce cycle, Ã  la
  lumiÃ¨re d'un enseignement gnostique actuel.  Prochains thÃ¨mes:  Ate
 lier 2 : Â« Les besoins existentiels et spirituels Â»  Atelier 3 : Â« 
 Les voies et les chemins Â»  Atelier 4 : Â« La question de lâ€™origine
  Â»  Atelier 5 : Â« Quâ€™est-ce qui nous retient ? Quâ€™est-ce qui nou
 s libÃ¨re ?\"  Atelier 6 : Â« Libres dans le monde aujourdâ€™hui Â»  A
 telier 7 : Â« Les Ã©coles des mystÃ¨res Â»  Atelier 8 : Â« Continuer s
 on chemin Â»\n\nPour plus d'information, aller sur https://epanews.fr/
 events/cycle-d-atelier-esprit-libre-1er-expos
DTSTART;TZID=Europe/Paris:20160913T193000
DTEND;TZID=Europe/Paris:20160913T213000
CATEGORIES:75
LOCATION:HÃ´tel Le Clos Notre Dame
WEBSITE:http://paris.rose-croix-d-or.org
URL:http://paris.rose-croix-d-or.org
CONTACT:0661320412
ORGANIZER;CN=sylvanus:https://epanews.fr/profile/sylvanus
ATTACH;FMTTYPE="image/jpeg":http://storage.ning.com/topology/rest/1.0/
 file/get/1663587315?profile=original
ATTENDEE;ROLE=REQ-PARTICIPANT;PARTSTAT=ACCEPTED;RSVP=TRUE;CN=sylvanus:
 https://epanews.fr/profile/sylvanus
END:VEVENT
END:VCALENDAR
